BEGIN:VCALENDAR
VERSION:2.0
PRODID:-//https://bratac.hosts.net.nz/~fencing//NONSGML kigkonsult.se iCalc
 reator 2.23.20//
METHOD:PUBLISH
X-WR-CALNAME:JCal Pro Calendar
X-WR-CALDESC:Your online events calendar
X-WR-TIMEZONE:Pacific/Auckland
BEGIN:VTIMEZONE
TZID:Pacific/Auckland
BEGIN:STANDARD
DTSTART:20230402T030000
TZOFFSETFROM:+1300
TZOFFSETTO:+1200
RDATE:20240407T030000
TZNAME:NZST
END:STANDARD
BEGIN:DAYLIGHT
DTSTART:20220925T020000
TZOFFSETFROM:+1200
TZOFFSETTO:+1300
RDATE:20230924T020000
TZNAME:NZDT
END:DAYLIGHT
END:VTIMEZONE
BEGIN:VEVENT
UID:29481008T000900NZDT-5078MBfRsG@https://www.fencing.org.nz/
DTSTAMP:20260424T231813Z
CATEGORIES:North
DESCRIPTION:<p><a href='https://www.fencingnorth.com/calendar2/icalrepeat.d
 etail/2022/11/12/646/-/larsen-hamilton'>For Fencing North Calendar and fur
 ther details click here</a></p>
DTSTART;TZID=Pacific/Auckland:20221105T080000
DTEND;TZID=Pacific/Auckland:20221105T090000
SUMMARY:Larsen - Hamilton
URL:https://bratac.hosts.net.nz/~fencing/events/events-calendar/26-north/14
 1-larsen-hamilton
END:VEVENT
END:VCALENDAR
