BEGIN:VCALENDAR
VERSION:2.0
PRODID:-//https://bratac.hosts.net.nz/~fencing//NONSGML kigkonsult.se iCalc
 reator 2.23.20//
METHOD:PUBLISH
X-WR-CALNAME:JCal Pro Calendar
X-WR-CALDESC:Your online events calendar
X-WR-TIMEZONE:Pacific/Auckland
BEGIN:VTIMEZONE
TZID:Pacific/Auckland
BEGIN:STANDARD
DTSTART:20240407T030000
TZOFFSETFROM:+1300
TZOFFSETTO:+1200
RDATE:20250406T030000
TZNAME:NZST
END:STANDARD
BEGIN:DAYLIGHT
DTSTART:20230924T020000
TZOFFSETFROM:+1200
TZOFFSETTO:+1300
RDATE:20240929T020000
TZNAME:NZDT
END:DAYLIGHT
END:VTIMEZONE
BEGIN:VEVENT
UID:20240317T080000NZDT-9014BegfrO@https://www.fencing.org.nz/
DTSTAMP:20260424T133737Z
CATEGORIES:North
DESCRIPTION:
DTSTART;VALUE=DATE:20240324
DTEND;VALUE=DATE:20240325
SUMMARY:North U15 & Cadet Championships
URL:https://bratac.hosts.net.nz/~fencing/events/events-calendar/26-north/20
 8-north-u15-cadet-championships
END:VEVENT
END:VCALENDAR
