BEGIN:VCALENDAR
VERSION:2.0
PRODID:-//https://bratac.hosts.net.nz/~fencing//NONSGML kigkonsult.se iCalc
 reator 2.23.20//
METHOD:PUBLISH
X-WR-CALNAME:JCal Pro Calendar
X-WR-CALDESC:Your online events calendar
X-WR-TIMEZONE:Pacific/Auckland
BEGIN:VTIMEZONE
TZID:Pacific/Auckland
BEGIN:STANDARD
DTSTART:20220403T030000
TZOFFSETFROM:+1300
TZOFFSETTO:+1200
RDATE:20230402T030000
TZNAME:NZST
END:STANDARD
BEGIN:DAYLIGHT
DTSTART:20210926T020000
TZOFFSETFROM:+1200
TZOFFSETTO:+1300
RDATE:20220925T020000
TZNAME:NZDT
END:DAYLIGHT
END:VTIMEZONE
BEGIN:VEVENT
UID:20220319T080000NZDT-05337obcl3@https://www.fencing.org.nz/
DTSTAMP:20260425T012006Z
CATEGORIES:FeNZ
DESCRIPTION:<h3>Timetable for South Island Champs-Saturday 19th March\, Sun
 day 20th March</h3>\n<p><strong>Saturday 19th March</strong></p>\n<p>7:45a
 m Men’s Foil Registration Opens</p>\n<p>8am Men’s Foil Registration Closes
 </p>\n<p>8:30am Men’s Foil</p>\n<p><strong>Second AM</strong> <strong>Even
 t</strong></p>\n<p>Women’s Epee*</p>\n<p><strong>PM Events </strong></p>\n
 <p>Men’s &amp\; Women’s Sabre*</p>\n<p>Veteran Epee*</p>\n<p><strong>Sunda
 y 20th March</strong></p>\n<p>7:45am Men’s Epee Registration Opens</p>\n<p
 >8am Men’s Epee Registration Closes</p>\n<p>8:30am Men’s Epee</p>\n<p><str
 ong>Second AM Event</strong></p>\n<p>Women’s Foil*</p>\n<p>*Event start ti
 mes will be released once final registration numbers are known</p>
DTSTART;TZID=Pacific/Auckland:20220319T080000
DTEND;TZID=Pacific/Auckland:20220320T180000
SUMMARY:South Island Championships - Christchurch
URL:https://bratac.hosts.net.nz/~fencing/events/events-calendar/27-fenz/118
 -south-island-championships-christchurch
END:VEVENT
END:VCALENDAR
