BEGIN:VCALENDAR
VERSION:2.0
PRODID:-//https://bratac.hosts.net.nz/~fencing//NONSGML kigkonsult.se iCalc
 reator 2.23.20//
METHOD:PUBLISH
X-WR-CALNAME:JCal Pro Calendar
X-WR-CALDESC:Your online events calendar
X-WR-TIMEZONE:Pacific/Auckland
BEGIN:VTIMEZONE
TZID:Pacific/Auckland
BEGIN:STANDARD
DTSTART:20260405T030000
TZOFFSETFROM:+1300
TZOFFSETTO:+1200
RDATE:20270404T030000
TZNAME:NZST
END:STANDARD
BEGIN:DAYLIGHT
DTSTART:20250928T020000
TZOFFSETFROM:+1200
TZOFFSETTO:+1300
RDATE:20260927T020000
TZNAME:NZDT
END:DAYLIGHT
END:VTIMEZONE
BEGIN:VEVENT
UID:20251129T080000NZDT-4446GULkxw@https://www.fencing.org.nz/
DTSTAMP:20260424T153749Z
CATEGORIES:FeNZ
DESCRIPTION:<p>This will be held in South\, location and schedule will be p
 ublished when finalised.</p>
DTSTART;TZID=Pacific/Auckland:20251129T080000
DTEND;TZID=Pacific/Auckland:20251130T170000
SUMMARY:Presidents Cup & Veteran Sabre
URL:https://bratac.hosts.net.nz/~fencing/events/events-calendar/27-fenz/256
 -presidents-cup
END:VEVENT
END:VCALENDAR
