BEGIN:VCALENDAR
VERSION:2.0
PRODID:-//https://bratac.hosts.net.nz/~fencing//NONSGML kigkonsult.se iCalc
 reator 2.23.20//
METHOD:PUBLISH
X-WR-CALNAME:JCal Pro Calendar
X-WR-CALDESC:Your online events calendar
X-WR-TIMEZONE:Pacific/Auckland
BEGIN:VTIMEZONE
TZID:Pacific/Auckland
BEGIN:STANDARD
DTSTART:20260405T030000
TZOFFSETFROM:+1300
TZOFFSETTO:+1200
RDATE:20270404T030000
TZNAME:NZST
END:STANDARD
BEGIN:DAYLIGHT
DTSTART:20250928T020000
TZOFFSETFROM:+1200
TZOFFSETTO:+1300
RDATE:20260927T020000,20270926T020000
TZNAME:NZDT
END:DAYLIGHT
END:VTIMEZONE
BEGIN:VEVENT
UID:20260411T080000NZST-7104FkcK0D@https://www.fencing.org.nz/
DTSTAMP:20260424T153833Z
CATEGORIES:FeNZ,North
DESCRIPTION:<p>&nbsp\;</p>\n<p>&nbsp\;</p>\n<p><a href='https://events.huma
 nitix.com/north-island-championships-2026'><b><br />LINK TO INFORMATION &a
 mp\; BOOKING PAGE</b></a></p>
DTSTART;TZID=Pacific/Auckland:20260411T080000
DTEND;TZID=Pacific/Auckland:20260412T171500
SUMMARY:North Island and Veteran Foil Championships
URL:https://bratac.hosts.net.nz/~fencing/events/events-calendar/27-fenz/290
 -north-island-and-veteran-foil-championships
END:VEVENT
END:VCALENDAR
