BEGIN:VCALENDAR
VERSION:2.0
PRODID:-//https://bratac.hosts.net.nz/~fencing//NONSGML kigkonsult.se iCalc
 reator 2.23.20//
METHOD:PUBLISH
X-WR-CALNAME:JCal Pro Calendar
X-WR-CALDESC:Your online events calendar
X-WR-TIMEZONE:Pacific/Auckland
BEGIN:VTIMEZONE
TZID:Pacific/Auckland
BEGIN:STANDARD
DTSTART:20260405T030000
TZOFFSETFROM:+1300
TZOFFSETTO:+1200
RDATE:20270404T030000
TZNAME:NZST
END:STANDARD
BEGIN:DAYLIGHT
DTSTART:20260927T020000
TZOFFSETFROM:+1200
TZOFFSETTO:+1300
RDATE:20270926T020000
TZNAME:NZDT
END:DAYLIGHT
END:VTIMEZONE
BEGIN:VEVENT
UID:20260620T080000NZST-8715CTGTkN@https://www.fencing.org.nz/
DTSTAMP:20260424T133443Z
CATEGORIES:Central
DESCRIPTION:<p>Wellington</p>
DTSTART;TZID=Pacific/Auckland:20260620T080000
DTEND;TZID=Pacific/Auckland:20260621T173000
SUMMARY:Central Junior Championships
URL:https://bratac.hosts.net.nz/~fencing/events/events-calendar/28-central/
 295-central-junior-championships
END:VEVENT
END:VCALENDAR
