BEGIN:VCALENDAR
VERSION:2.0
PRODID:-//https://bratac.hosts.net.nz/~fencing//NONSGML kigkonsult.se iCalc
 reator 2.23.20//
METHOD:PUBLISH
X-WR-CALNAME:JCal Pro Calendar
X-WR-CALDESC:Your online events calendar
X-WR-TIMEZONE:Pacific/Auckland
BEGIN:VTIMEZONE
TZID:Pacific/Auckland
BEGIN:STANDARD
DTSTART:20230402T030000
TZOFFSETFROM:+1300
TZOFFSETTO:+1200
RDATE:20240407T030000,20250406T030000
TZNAME:NZST
END:STANDARD
BEGIN:DAYLIGHT
DTSTART:20230924T020000
TZOFFSETFROM:+1200
TZOFFSETTO:+1300
RDATE:20240929T020000
TZNAME:NZDT
END:DAYLIGHT
END:VTIMEZONE
BEGIN:VEVENT
UID:20191012T110000NZDT-8071JWXLiS@http://bratac.hosts.net.nz/~fencing/
DTSTAMP:20260424T133423Z
CATEGORIES:Central
DESCRIPTION:<p>HBB&nbsp\;<br />Email:&nbsp\;<span id='cloakaa55311994deda4c
 e789be90890b3880'>This email address is being protected from spambots. You
  need JavaScript enabled to view it.</span><script type='text/javascript'>
 
				document.getElementById('cloakaa55311994deda4ce789be90890b3880').innerHTML
  = ''\;
				var prefix = '&#109\;a' + 'i&#108\;' + '&#116\;o'\;
				var path = 'hr' 
 + 'ef' + '='\;
				var addyaa55311994deda4ce789be90890b3880 = 'hbf&#101\;nc&#10
 5\;ngcl&#117\;b' + '&#64\;'\;
				addyaa55311994deda4ce789be90890b3880 = addyaa
 55311994deda4ce789be90890b3880 + 'gm&#97\;&#105\;l' + '&#46\;' + 'c&#111\;
 m'\;
				var addy_textaa55311994deda4ce789be90890b3880 = 'hbf&#101\;nc&#105\;ng
 cl&#117\;b' + '&#64\;' + 'gm&#97\;&#105\;l' + '&#46\;' + 'c&#111\;m'\;docu
 ment.getElementById('cloakaa55311994deda4ce789be90890b3880').innerHTML += 
 '<a ' + path + '\'' + prefix + ':' + addyaa55311994deda4ce789be90890b3880 
 + '\'>'+addy_textaa55311994deda4ce789be90890b3880+'<\/a>'\;
		</script>&nbsp\
 ;</p>\n<p><a href='https://www.sporty.co.nz/hbfencing/2023-central-camp-op
 en-tourn/entry-form'>https://www.sporty.co.nz/hbfencing/2023-central-camp-
 open-tourn/entry-form</a></p>
DTSTART;TZID=Pacific/Auckland:20231007T110000
DTEND;TZID=Pacific/Auckland:20231008T170000
SUMMARY:Central Open - HB [Ranked Event]
URL:https://bratac.hosts.net.nz/~fencing/events/events-calendar/28-central/
 52-central-open
END:VEVENT
END:VCALENDAR
