BEGIN:VCALENDAR
VERSION:2.0
PRODID:-//https://bratac.hosts.net.nz/~fencing//NONSGML kigkonsult.se iCalc
 reator 2.23.20//
METHOD:PUBLISH
X-WR-CALNAME:JCal Pro Calendar
X-WR-CALDESC:Your online events calendar
X-WR-TIMEZONE:Pacific/Auckland
BEGIN:VTIMEZONE
TZID:Pacific/Auckland
BEGIN:STANDARD
DTSTART:20220403T030000
TZOFFSETFROM:+1300
TZOFFSETTO:+1200
RDATE:20230402T030000
TZNAME:NZST
END:STANDARD
BEGIN:DAYLIGHT
DTSTART:20220925T020000
TZOFFSETFROM:+1200
TZOFFSETTO:+1300
RDATE:20230924T020000
TZNAME:NZDT
END:DAYLIGHT
END:VTIMEZONE
BEGIN:VEVENT
UID:20220814T090000NZST-4355NMwjBh@https://www.fencing.org.nz/
DTSTAMP:20260424T172808Z
CATEGORIES:South
DESCRIPTION:
DTSTART;VALUE=DATE:20220814
DTEND;VALUE=DATE:20220815
SUMMARY:South Age Group #2
URL:https://bratac.hosts.net.nz/~fencing/events/events-calendar/29-south/13
 0-south-age-group-2
END:VEVENT
END:VCALENDAR
