BEGIN:VCALENDAR
VERSION:2.0
PRODID:-//https://bratac.hosts.net.nz/~fencing//NONSGML kigkonsult.se iCalc
 reator 2.23.20//
METHOD:PUBLISH
X-WR-CALNAME:JCal Pro Calendar
X-WR-CALDESC:Your online events calendar
X-WR-TIMEZONE:Pacific/Auckland
BEGIN:VTIMEZONE
TZID:Pacific/Auckland
BEGIN:STANDARD
DTSTART:20230402T030000
TZOFFSETFROM:+1300
TZOFFSETTO:+1200
RDATE:20240407T030000
TZNAME:NZST
END:STANDARD
BEGIN:DAYLIGHT
DTSTART:20230924T020000
TZOFFSETFROM:+1200
TZOFFSETTO:+1300
RDATE:20240929T020000
TZNAME:NZDT
END:DAYLIGHT
END:VTIMEZONE
BEGIN:VEVENT
UID:20230506T090000NZST-0566kZTFX8@https://www.fencing.org.nz/
DTSTAMP:20260424T133445Z
CATEGORIES:South,FeNZ
DESCRIPTION:<p>Fencing South will be hosting the Ted Nye Open on the weeken
 d of the 6-7th May 2023.<br /><br />The competition will be held at Claymo
 re Swords Club\, 106 Bond St (Cnr of Police St and Bond St)\, Dunedin.<br 
 /><br />Registration will be open 9am - 9.15am and fencing starts at 9.30 
 on each day.<br /><br />This is a FENZ competition so you must be a FENZ c
 ompetitive member to take part.<br />You can sign up for your membership a
 t the below link:<br /><br /><a class='x1fey0fg xmper1u x1edh9d7' href='me
 mbership/membership-options'>https://www.fencing.org.nz/membership/members
 hip-options</a><br /><br />It is also the first of our two ranking competi
 tions this year.<br /><br />Further information can be found on the entry 
 form that is available at the link below:<br /><br />Please enter here:<br
  /><br /><a class='x1fey0fg xmper1u x1edh9d7' href='https://forms.gle/LCqT
 Kpeq8CTFpVkHA'>https://forms.gle/LCqTKpeq8CTFpVkHA</a><br /><br />Hope to 
 see you there.<br /><br /></p>
DTSTART;TZID=Pacific/Auckland:20230506T090000
DTEND;TZID=Pacific/Auckland:20230507T160000
SUMMARY:Ted Nye Open [Ranked Event]
URL:https://bratac.hosts.net.nz/~fencing/events/events-calendar/29-south/18
 1-ted-nye-open
END:VEVENT
END:VCALENDAR
