BEGIN:VCALENDAR
VERSION:2.0
PRODID:-//https://bratac.hosts.net.nz/~fencing//NONSGML kigkonsult.se iCalc
 reator 2.23.20//
METHOD:PUBLISH
X-WR-CALNAME:JCal Pro Calendar
X-WR-CALDESC:Your online events calendar
X-WR-TIMEZONE:Pacific/Auckland
BEGIN:VTIMEZONE
TZID:Pacific/Auckland
BEGIN:STANDARD
DTSTART:20240407T030000
TZOFFSETFROM:+1300
TZOFFSETTO:+1200
RDATE:20250406T030000
TZNAME:NZST
END:STANDARD
BEGIN:DAYLIGHT
DTSTART:20240929T020000
TZOFFSETFROM:+1200
TZOFFSETTO:+1300
RDATE:20250928T020000
TZNAME:NZDT
END:DAYLIGHT
END:VTIMEZONE
BEGIN:VEVENT
UID:20240831T080000NZST-49232xXu4D@https://www.fencing.org.nz/
DTSTAMP:20260424T153751Z
CATEGORIES:South
DESCRIPTION:
DTSTART;TZID=Pacific/Auckland:20240831T080000
DTEND;TZID=Pacific/Auckland:20240901T140000
SUMMARY:South Open Championships
URL:https://bratac.hosts.net.nz/~fencing/events/events-calendar/29-south/22
 1-south-open-championships
END:VEVENT
END:VCALENDAR
