BEGIN:VCALENDAR
VERSION:2.0
PRODID:-//https://bratac.hosts.net.nz/~fencing//NONSGML kigkonsult.se iCalc
 reator 2.23.20//
METHOD:PUBLISH
X-WR-CALNAME:JCal Pro Calendar
X-WR-CALDESC:Your online events calendar
X-WR-TIMEZONE:Pacific/Auckland
BEGIN:VTIMEZONE
TZID:Pacific/Auckland
BEGIN:STANDARD
DTSTART:20220403T030000
TZOFFSETFROM:+1300
TZOFFSETTO:+1200
RDATE:20230402T030000
TZNAME:NZST
END:STANDARD
BEGIN:DAYLIGHT
DTSTART:20220925T020000
TZOFFSETFROM:+1200
TZOFFSETTO:+1300
RDATE:20230924T020000
TZNAME:NZDT
END:DAYLIGHT
END:VTIMEZONE
BEGIN:VEVENT
UID:20220813T080000NZST-4196XcfNNk@https://www.fencing.org.nz/
DTSTAMP:20260424T205044Z
CATEGORIES:International
DESCRIPTION:<p><a href='https://www.ausfencing.org/tribe-events/'>Australia
 n AFC Calendar here</a></p>
DTSTART;TZID=Pacific/Auckland:20220813T080000
DTEND;TZID=Pacific/Auckland:20220815T090000
SUMMARY:Australian Youth Circuit (AYC) #3 -  Sydney
URL:https://bratac.hosts.net.nz/~fencing/events/events-calendar/30-internat
 ional/150-australian-youth-circuit-ayc-3
END:VEVENT
END:VCALENDAR
