BEGIN:VCALENDAR
VERSION:2.0
PRODID:-//https://bratac.hosts.net.nz/~fencing//NONSGML kigkonsult.se iCalc
 reator 2.23.20//
METHOD:PUBLISH
X-WR-CALNAME:JCal Pro Calendar
X-WR-CALDESC:Your online events calendar
X-WR-TIMEZONE:Pacific/Auckland
BEGIN:VTIMEZONE
TZID:Pacific/Auckland
BEGIN:STANDARD
DTSTART:20250406T030000
TZOFFSETFROM:+1300
TZOFFSETTO:+1200
RDATE:20260405T030000
TZNAME:NZST
END:STANDARD
BEGIN:DAYLIGHT
DTSTART:20240929T020000
TZOFFSETFROM:+1200
TZOFFSETTO:+1300
RDATE:20250928T020000
TZNAME:NZDT
END:DAYLIGHT
END:VTIMEZONE
BEGIN:VEVENT
UID:20241129T080000NZDT-7787bJmMSs@https://www.fencing.org.nz/
DTSTAMP:20260424T153703Z
CATEGORIES:International
DESCRIPTION:<p>AFF - AFC#3 Robyn Chaplin Memorial Championship<br />will be
  held Nove 29th to Dec 1st in Adelaide\, South Australia.</p>\n<p>Addition
 al details will be found of the AFF website.</p>
DTSTART;TZID=Pacific/Auckland:20241129T080000
DTEND;TZID=Pacific/Auckland:20241202T090000
SUMMARY:AFF - AFC#3 Robyn Chaplin Memorial Championship
URL:https://bratac.hosts.net.nz/~fencing/events/events-calendar/30-internat
 ional/234-aff-afc-3-robyn-chaplin-memorial-championship
END:VEVENT
END:VCALENDAR
