BEGIN:VCALENDAR
VERSION:2.0
PRODID:-//https://bratac.hosts.net.nz/~fencing//NONSGML kigkonsult.se iCalc
 reator 2.23.20//
METHOD:PUBLISH
X-WR-CALNAME:JCal Pro Calendar
X-WR-CALDESC:Your online events calendar
X-WR-TIMEZONE:Pacific/Auckland
BEGIN:VTIMEZONE
TZID:Pacific/Auckland
BEGIN:STANDARD
DTSTART:20210404T030000
TZOFFSETFROM:+1300
TZOFFSETTO:+1200
RDATE:20220403T030000
TZNAME:NZST
END:STANDARD
BEGIN:DAYLIGHT
DTSTART:20200927T020000
TZOFFSETFROM:+1200
TZOFFSETTO:+1300
RDATE:20210926T020000,20220925T020000
TZNAME:NZDT
END:DAYLIGHT
END:VTIMEZONE
BEGIN:VEVENT
UID:20210424T100000NZST-2917VU3kZV@https://www.fencing.org.nz/
DTSTAMP:20260424T214233Z
CATEGORIES:FeNZ,Central
DESCRIPTION:<h3>Timetable for NZ National U15/ Cadets Champ-Saturday 24th A
 pril\, Sunday 25th April and Monday 26th April</h3>\n<p><span style='text-
 decoration: underline\;'><strong>Saturday 24th April</strong></span></p>\n
 <p>8:15am Cadet Men’s Foil Registration Opens</p>\n<p>8:30am Cadet Men’s F
 oil Registration Closes</p>\n<p>9am Cadet Men’s Foil</p>\n<p>8:45am Cadet 
 Women’s Epee Registration Opens</p>\n<p>9am Cadet Women’s Epee Registratio
 n Closes</p>\n<p>9:30am Cadet Women’s Epee</p>\n<p>1pm U15 Men’s &amp\; Wo
 men’s Epee*</p>\n<p>* Event will start after Cadet Women’s Epee finishes</
 p>\n<p><span style='text-decoration: underline\;'><strong>Anzac Day: Sunda
 y 25th April</strong></span></p>\n<p>1pm U15 Men’s &amp\; Women’s Foil</p>
 \n<p>4pm Men’s &amp\; Women’s Sabre^</p>\n<p>^ Sabre will be fenced mixed 
 age group ie:U15 &amp\; Cadet combined. Men’s and Women’s sabre will be fe
 nced separately</p>\n<p><span style='text-decoration: underline\;'><strong
 >Monday 26th April</strong></span></p>\n<p>8:15am Cadet Men’s Epee Registr
 ation Opens</p>\n<p>8:30am Cadet Men’s Epee Registration Closes</p>\n<p>9a
 m Cadet Men’s Epee</p>\n<p>10:15am Cadet Women’s Foil Registration Opens</
 p>\n<p>10:30am Cadet Women’s Foil Registration Closes</p>\n<p>11am Cadet W
 omen’s Foil</p>
DTSTART;TZID=Pacific/Auckland:20210424T100000
DTEND;TZID=Pacific/Auckland:20210426T160000
SUMMARY:NZ U15 / Cadet Championships - Wellington
URL:https://bratac.hosts.net.nz/~fencing/events/events-calendar/27-fenz/101
 -nz-u15-cadet-championships
END:VEVENT
END:VCALENDAR
