BEGIN:VCALENDAR
VERSION:2.0
PRODID:-//https://bratac.hosts.net.nz/~fencing//NONSGML kigkonsult.se iCalc
 reator 2.23.20//
METHOD:PUBLISH
X-WR-CALNAME:JCal Pro Calendar
X-WR-CALDESC:Your online events calendar
X-WR-TIMEZONE:Pacific/Auckland
BEGIN:VTIMEZONE
TZID:Pacific/Auckland
BEGIN:STANDARD
DTSTART:20210404T030000
TZOFFSETFROM:+1300
TZOFFSETTO:+1200
RDATE:20220403T030000
TZNAME:NZST
END:STANDARD
BEGIN:DAYLIGHT
DTSTART:20210926T020000
TZOFFSETFROM:+1200
TZOFFSETTO:+1300
RDATE:20220925T020000
TZNAME:NZDT
END:DAYLIGHT
END:VTIMEZONE
BEGIN:VEVENT
UID:20210201T100000NZDT-7845UL8w9A@https://www.fencing.org.nz/
DTSTAMP:20260424T201807Z
CATEGORIES:FeNZ,South
DESCRIPTION:<h3>Timetable for South Island Champs-Saturday 15th May\, Sunda
 y 16th May</h3>\n<p><span style='text-decoration: underline\;'><strong>Sat
 urday 15th May</strong></span></p>\n<p>8:15am Men’s Foil Registration Open
 s</p>\n<p>8:30am Men’s Foil Registration Closes</p>\n<p>9am Men’s Foil</p>
 \n<p>10:15am Women’s Epee Registration Opens</p>\n<p>10:30pm Women’s Epee 
 Registration Closes</p>\n<p>11am Women’s Epee</p>\n<p>1:30pm Sabre &amp\; 
 Veteran Foil Registration Opens</p>\n<p>3pm Men’s &amp\; Women’s Sabre*</p
 >\n<p>3pm Veteran Epee*</p>\n<p>* Event will start after Men’s Foil is fin
 ished.</p>\n<p><span style='text-decoration: underline\;'><strong>Sunday 1
 6th May</strong></span></p>\n<p>8:15am Men’s Epee Registration Opens</p>\n
 <p>8:30am Men’s Epee Registration Closes</p>\n<p>9am Men’s Epee</p>\n<p>10
 :15am Women’s Foil Registration Opens</p>\n<p>10:30pm Women’s Foil Registr
 ation Closes</p>\n<p>11am Women’s Foil</p>
DTSTART;TZID=Pacific/Auckland:20210515T100000
DTEND;TZID=Pacific/Auckland:20210516T160000
SUMMARY:South Island Championships & Vet Epee - Dunedin
URL:https://bratac.hosts.net.nz/~fencing/events/events-calendar/27-fenz/102
 -south-island-championships
END:VEVENT
END:VCALENDAR
