BEGIN:VCALENDAR
VERSION:2.0
PRODID:-//https://bratac.hosts.net.nz/~fencing//NONSGML kigkonsult.se iCalc
 reator 2.23.20//
METHOD:PUBLISH
X-WR-CALNAME:JCal Pro Calendar
X-WR-CALDESC:Your online events calendar
X-WR-TIMEZONE:Pacific/Auckland
BEGIN:VTIMEZONE
TZID:Pacific/Auckland
BEGIN:STANDARD
DTSTART:20210404T030000
TZOFFSETFROM:+1300
TZOFFSETTO:+1200
RDATE:20220403T030000
TZNAME:NZST
END:STANDARD
BEGIN:DAYLIGHT
DTSTART:20210926T020000
TZOFFSETFROM:+1200
TZOFFSETTO:+1300
RDATE:20220925T020000
TZNAME:NZDT
END:DAYLIGHT
END:VTIMEZONE
BEGIN:VEVENT
UID:20210807T100000NZST-2412fNX8RN@https://www.fencing.org.nz/
DTSTAMP:20260424T152518Z
CATEGORIES:FeNZ,Central
DESCRIPTION:<h3>Timetable for North Island Champs-Saturday 7th August\, Sun
 day 8th August</h3>\n<p><span style='text-decoration: underline\;'><strong
 >Saturday 7th August</strong></span></p>\n<p>8:15am Men’s Foil Registratio
 n Opens</p>\n<p>8:30am Men’s Foil Registration Closes</p>\n<p>9am Men’s Fo
 il</p>\n<p>10:15am Women’s Epee Registration Opens</p>\n<p>10:30pm Women’s
  Epee Registration Closes</p>\n<p>11am Women’s Epee</p>\n<p>1:30pm Sabre &
 amp\; Veteran Foil Registration Opens</p>\n<p>3pm Men’s &amp\; Women’s Sab
 re*</p>\n<p>3pm Veteran Foil*</p>\n<p>* Event will start after Men’s Foil 
 is finished.</p>\n<p><span style='text-decoration: underline\;'><strong>Su
 nday 8th August</strong></span></p>\n<p>8:15am Men’s Epee Registration Ope
 ns</p>\n<p>8:30am Men’s Epee Registration Closes</p>\n<p>9am Men’s Epee</p
 >\n<p>10:15am Women’s Foil Registration Opens</p>\n<p>10:30pm Women’s Foil
  Registration Closes</p>\n<p>11am Women’s Foil</p>
DTSTART;TZID=Pacific/Auckland:20210807T100000
DTEND;TZID=Pacific/Auckland:20210808T160000
SUMMARY:North Island Championships & Vet Foil - Wellington
URL:https://bratac.hosts.net.nz/~fencing/events/events-calendar/27-fenz/105
 -north-island-championships
END:VEVENT
END:VCALENDAR
