BEGIN:VCALENDAR
VERSION:2.0
PRODID:-//https://bratac.hosts.net.nz/~fencing//NONSGML kigkonsult.se iCalc
 reator 2.23.20//
METHOD:PUBLISH
X-WR-CALNAME:JCal Pro Calendar
X-WR-CALDESC:Your online events calendar
X-WR-TIMEZONE:Pacific/Auckland
BEGIN:VTIMEZONE
TZID:Pacific/Auckland
BEGIN:STANDARD
DTSTART:20210404T030000
TZOFFSETFROM:+1300
TZOFFSETTO:+1200
RDATE:20220403T030000
TZNAME:NZST
END:STANDARD
BEGIN:DAYLIGHT
DTSTART:20210926T020000
TZOFFSETFROM:+1200
TZOFFSETTO:+1300
RDATE:20220925T020000
TZNAME:NZDT
END:DAYLIGHT
END:VTIMEZONE
BEGIN:VEVENT
UID:20210910T100000NZST-7742eupsOX@https://www.fencing.org.nz/
DTSTAMP:20260424T151934Z
CATEGORIES:International,FeNZ
DESCRIPTION:<h3>NZ National Junior Championships-&nbsp\;Saturday 11th to Su
 nday 12th September</h3>\n<p>Register are now open:&nbsp\;</p>\n<p><a href
 ='https://www.registernow.com.au/secure/Register.aspx?E=44636'>https://www
 .registernow.com.au/secure/Register.aspx?E=44636</a></p>\n<p>Participant l
 ist individuals:</p>\n<p><a href='https://www.registernow.com.au/secure/Pa
 rticipantList.aspx?E=44636'>https://www.registernow.com.au/secure/Particip
 antList.aspx?E=44636</a></p>\n<p>The new timetable is shown below (times m
 ay change slightly\, depending on numbers):</p>\n<p><strong>Timetable for 
 NZ Junior (U20) Champs-Saturday 11th - Sunday 12th September</strong></p>
 \n<p><strong>Timetable</strong></p>\n<p><strong>Saturday 11<sup>th</sup> S
 eptember</strong></p>\n<p>8:30am Men’s Foil Registration Opens<br /> 8:45a
 m Men’s Foil Registration Closes<br /> 9am Men’s Foil</p>\n<p><br /> 9:00a
 m Women’s Epee Registration Opens<br /> 9:15am Women’s Epee Registration C
 loses<br /> 9.30am Women’s Epee</p>\n<p><br /> 10:00 Sabre Registration Op
 ens</p>\n<p>10:15 Sabre Registration Closes</p>\n<p>10.30am Sabre Competit
 ion Starts</p>\n<p>Team events will start after the individuals have finis
 hed</p>\n<p>7pm&nbsp\;Competition Dinner: TBC</p>\n<p><strong>Sunday 12<su
 p>th</sup> September</strong></p>\n<p><br /> 8:30am Men’s Epee Registratio
 n Opens<br /> 8:45am Men’s Epee Registration Closes<br /> 9am Men’s Epee<b
 r /> 9:30am Women’s Foil Registration Opens<br /> 9:45am Women’s Foil Regi
 stration Closes<br /> 10:00am Women’s Foil</p>\n<p><br /> Team events will
  start after the individuals have finished</p>
DTSTART;TZID=Pacific/Auckland:20210911T100000
DTEND;TZID=Pacific/Auckland:20210912T160000
SUMMARY:NZ U20 Championships - Auckland - CANCELLED
URL:https://bratac.hosts.net.nz/~fencing/events/events-calendar/30-internat
 ional/107-oceanic-and-nz-u20-championships
END:VEVENT
END:VCALENDAR
