BEGIN:VCALENDAR
VERSION:2.0
PRODID:-//https://bratac.hosts.net.nz/~fencing//NONSGML kigkonsult.se iCalc
 reator 2.23.20//
METHOD:PUBLISH
X-WR-CALNAME:JCal Pro Calendar
X-WR-CALDESC:Your online events calendar
X-WR-TIMEZONE:Pacific/Auckland
BEGIN:VTIMEZONE
TZID:Pacific/Auckland
BEGIN:STANDARD
DTSTART:20220403T030000
TZOFFSETFROM:+1300
TZOFFSETTO:+1200
RDATE:20230402T030000
TZNAME:NZST
END:STANDARD
BEGIN:DAYLIGHT
DTSTART:20210926T020000
TZOFFSETFROM:+1200
TZOFFSETTO:+1300
RDATE:20220925T020000
TZNAME:NZDT
END:DAYLIGHT
END:VTIMEZONE
BEGIN:VEVENT
UID:20220120T100000NZDT-9738Oxu2pf@https://www.fencing.org.nz/
DTSTAMP:20260424T231236Z
CATEGORIES:North
DESCRIPTION:<p>Thursday 20th January to Sunday 23rd - 10am to 4pm each day<
 /p>\n<p>National Camp for all fencers - run by Fencing North</p>\n<p>Commo
 nwealth Fencing Championship Long List candidates are expected to attend t
 his national camp.</p>
DTSTART;TZID=Pacific/Auckland:20220120T100000
DTEND;TZID=Pacific/Auckland:20220123T120000
SUMMARY:National Camp 2022 - Auckland
URL:https://bratac.hosts.net.nz/~fencing/events/events-calendar/26-north/11
 6-national-camp-2022-auckland
END:VEVENT
END:VCALENDAR
