BEGIN:VCALENDAR
VERSION:2.0
PRODID:-//https://bratac.hosts.net.nz/~fencing//NONSGML kigkonsult.se iCalc
 reator 2.23.20//
METHOD:PUBLISH
X-WR-CALNAME:JCal Pro Calendar
X-WR-CALDESC:Your online events calendar
X-WR-TIMEZONE:Pacific/Auckland
BEGIN:VTIMEZONE
TZID:Pacific/Auckland
BEGIN:STANDARD
DTSTART:20220403T030000
TZOFFSETFROM:+1300
TZOFFSETTO:+1200
RDATE:20230402T030000
TZNAME:NZST
END:STANDARD
BEGIN:DAYLIGHT
DTSTART:20210926T020000
TZOFFSETFROM:+1200
TZOFFSETTO:+1300
RDATE:20220925T020000,20230924T020000
TZNAME:NZDT
END:DAYLIGHT
END:VTIMEZONE
BEGIN:VEVENT
UID:20220415T080000NZST-0284JBvvvs@https://www.fencing.org.nz/
DTSTAMP:20260425T023541Z
CATEGORIES:FeNZ
DESCRIPTION:<p>All fencers are welcome to enter this competition. This is a
  Commonwealth Fencing Championship trial event.</p>\n<p>Entries through th
 e following link:&nbsp\;&nbsp\;<a href='https://www.registernow.com.au/sec
 ure/Register.aspx?E=46461'>https://www.registernow.com.au/secure/Register.
 aspx?E=46461</a></p>\n<p>&nbsp\;</p>\n<h3>Timetable for National Easter Co
 mpetition 15-18 April</h3>\n<p><strong>Good Friday 15th April</strong></p>
 \n<table>\n<tbody>\n<tr>\n<td>\n<p><strong>Friday 15<sup>th</sup> April</s
 trong></p>\n</td>\n<td>\n<p><strong>Registration opens</strong></p>\n</td>
 \n<td>\n<p><strong>Registration closes</strong></p>\n</td>\n<td>\n<p><stro
 ng>Start time</strong></p>\n</td>\n</tr>\n<tr>\n<td>\n<p>Senior Men’s Foil
 </p>\n</td>\n<td>\n<p>8:15am</p>\n</td>\n<td>\n<p>8:30am</p>\n</td>\n<td>
 \n<p>9:00am</p>\n</td>\n</tr>\n<tr>\n<td>\n<p>Senior Women’s Epee</p>\n</t
 d>\n<td>\n<p>8:30am</p>\n</td>\n<td>\n<p>8:45am</p>\n</td>\n<td>\n<p>9:30a
 m</p>\n</td>\n</tr>\n<tr>\n<td>\n<p>Senior Women’s Sabre</p>\n</td>\n<td>
 \n<p>11:45am</p>\n</td>\n<td>\n<p>12:00noon</p>\n</td>\n<td>\n<p>12:30pm</
 p>\n</td>\n</tr>\n<tr>\n<td>\n<p>Senior Men’s Sabre</p>\n</td>\n<td>\n<p>1
 2:00noon</p>\n</td>\n<td>\n<p>12:15pm</p>\n</td>\n<td>\n<p>12:45pm</p>\n</
 td>\n</tr>\n<tr>\n<td>&nbsp\;</td>\n<td>&nbsp\;</td>\n<td>&nbsp\;</td>\n<t
 d>&nbsp\;</td>\n</tr>\n<tr>\n<td>\n<p><strong>Saturday 16<sup>th</sup> Apr
 il</strong></p>\n</td>\n<td>\n<p><strong>Registration opens</strong></p>\n
 </td>\n<td>\n<p><strong>Registration closes</strong></p>\n</td>\n<td>\n<p>
 <strong>Start time</strong></p>\n</td>\n</tr>\n<tr>\n<td>\n<p>Senior Men’s
  Epee</p>\n</td>\n<td>\n<p>8:15am</p>\n</td>\n<td>\n<p>8:30am</p>\n</td>\n
 <td>\n<p>9:00am</p>\n</td>\n</tr>\n<tr>\n<td>\n<p>Senior Women’s Foil</p>
 \n</td>\n<td>\n<p>8:30am</p>\n</td>\n<td>\n<p>8:45am</p>\n</td>\n<td>\n<p>
 9:30am</p>\n</td>\n</tr>\n<tr>\n<td>\n<p>Cadet &amp\; Junior Women’s Sabre
 </p>\n</td>\n<td>\n<p>11:45am</p>\n</td>\n<td>\n<p>12:00</p>\n</td>\n<td>
 \n<p>12:30pm</p>\n</td>\n</tr>\n<tr>\n<td>\n<p>Cadet &amp\; Junior Men’s S
 abre</p>\n</td>\n<td>\n<p>11:45am</p>\n</td>\n<td>\n<p>12:00</p>\n</td>\n<
 td>\n<p>12:45pm</p>\n</td>\n</tr>\n<tr>\n<td>\n<p>Cadet Men’s Foil</p>\n</
 td>\n<td>\n<p>12:30pm</p>\n</td>\n<td>\n<p>12:45pm</p>\n</td>\n<td>\n<p>1:
 30pm</p>\n</td>\n</tr>\n<tr>\n<td>\n<p><strong>&nbsp\;</strong></p>\n</td>
 \n<td>&nbsp\;</td>\n<td>&nbsp\;</td>\n<td>&nbsp\;</td>\n</tr>\n<tr>\n<td>
 \n<p><strong>&nbsp\;Sunday 17<sup>th</sup> April</strong></p>\n</td>\n<td>
 \n<p><strong>Registration opens</strong></p>\n</td>\n<td>\n<p><strong>Regi
 stration closes</strong></p>\n</td>\n<td>\n<p><strong>Start time</strong><
 /p>\n</td>\n</tr>\n<tr>\n<td>\n<p>Cadet men’s Epee</p>\n</td>\n<td>\n<p>8:
 15am</p>\n</td>\n<td>\n<p>8:30am</p>\n</td>\n<td>\n<p>9:00am</p>\n</td>\n<
 /tr>\n<tr>\n<td>\n<p>Cadet Women’s Foil</p>\n</td>\n<td>\n<p>8:30am</p>\n<
 /td>\n<td>\n<p>8:45am</p>\n</td>\n<td>\n<p>9:30am</p>\n</td>\n</tr>\n<tr>
 \n<td>\n<p>Junior Men’s Foil</p>\n</td>\n<td>\n<p>11:15am</p>\n</td>\n<td>
 \n<p>11:30am</p>\n</td>\n<td>\n<p>12:00noon</p>\n</td>\n</tr>\n<tr>\n<td>
 \n<p>Cadet Women’s Epee</p>\n</td>\n<td>\n<p>12:00</p>\n</td>\n<td>\n<p>12
 :15pm</p>\n</td>\n<td>\n<p>12:45pm</p>\n</td>\n</tr>\n<tr>\n<td>&nbsp\;</t
 d>\n<td>&nbsp\;</td>\n<td>&nbsp\;</td>\n<td>&nbsp\;</td>\n</tr>\n<tr>\n<td
 >\n<p><strong>Monday 18<sup>th</sup> April</strong></p>\n</td>\n<td>\n<p><
 strong>Registration opens</strong></p>\n</td>\n<td>\n<p><strong>Registrati
 on closes</strong></p>\n</td>\n<td>\n<p><strong>Start time</strong></p>\n<
 /td>\n</tr>\n<tr>\n<td>\n<p>Junior Men’s Epee</p>\n</td>\n<td>\n<p>8:15am<
 /p>\n</td>\n<td>\n<p>8:30am</p>\n</td>\n<td>\n<p>9:00am</p>\n</td>\n</tr>
 \n<tr>\n<td>\n<p>Junior Women’s Foil</p>\n</td>\n<td>\n<p>8:30am</p>\n</td
 >\n<td>\n<p>8:45am</p>\n</td>\n<td>\n<p>9:30am</p>\n</td>\n</tr>\n<tr>\n<t
 d>\n<p>Junior Women’s Epee</p>\n</td>\n<td>\n<p>11:15am</p>\n</td>\n<td>\n
 <p>11:30am</p>\n</td>\n<td>\n<p>12:00</p>\n</td>\n</tr>\n</tbody>\n</table
 >\n<p>&nbsp\;</p>\n<p><strong>Please be at you allocated Piste 10 minutes 
 before the start&nbsp\;</strong></p>
DTSTART;TZID=Pacific/Auckland:20220415T080000
DTEND;TZID=Pacific/Auckland:20220418T180000
SUMMARY:Fencing NZ Carnival - National Trial Event - Open\, U20\, Cadet
URL:https://bratac.hosts.net.nz/~fencing/events/events-calendar/27-fenz/119
 -fencing-nz-carnival-national-trial-event-open-u20-cadet
END:VEVENT
END:VCALENDAR
