BEGIN:VCALENDAR
VERSION:2.0
PRODID:-//https://bratac.hosts.net.nz/~fencing//NONSGML kigkonsult.se iCalc
 reator 2.23.20//
METHOD:PUBLISH
X-WR-CALNAME:JCal Pro Calendar
X-WR-CALDESC:Your online events calendar
X-WR-TIMEZONE:Pacific/Auckland
BEGIN:VTIMEZONE
TZID:Australia/Brisbane
BEGIN:STANDARD
DTSTART:19920301T030000
TZOFFSETFROM:+1100
TZOFFSETTO:+1000
TZNAME:AEST
END:STANDARD
END:VTIMEZONE
BEGIN:VEVENT
UID:20220430T080000AEST-1833frhS91@https://www.fencing.org.nz/
DTSTAMP:20260425T011217Z
CATEGORIES:International
DESCRIPTION:<p><a href='https://www.ausfencing.org/tribe-events/'>AFC Calen
 dar here</a></p>
DTSTART;TZID=Australia/Brisbane:20220430T080000
DTEND;TZID=Australia/Brisbane:20220503T090000
SUMMARY:AFC#2 - Brisbane
URL:https://bratac.hosts.net.nz/~fencing/events/events-calendar/30-internat
 ional/143-afc-2-brisbane
END:VEVENT
END:VCALENDAR
