BEGIN:VCALENDAR
VERSION:2.0
PRODID:-//https://bratac.hosts.net.nz/~fencing//NONSGML kigkonsult.se iCalc
 reator 2.23.20//
METHOD:PUBLISH
X-WR-CALNAME:JCal Pro Calendar
X-WR-CALDESC:Your online events calendar
X-WR-TIMEZONE:Pacific/Auckland
BEGIN:VTIMEZONE
TZID:Pacific/Auckland
BEGIN:STANDARD
DTSTART:20220403T030000
TZOFFSETFROM:+1300
TZOFFSETTO:+1200
RDATE:20230402T030000
TZNAME:NZST
END:STANDARD
BEGIN:DAYLIGHT
DTSTART:20220925T020000
TZOFFSETFROM:+1200
TZOFFSETTO:+1300
RDATE:20230924T020000
TZNAME:NZDT
END:DAYLIGHT
END:VTIMEZONE
BEGIN:VEVENT
UID:20220924T110000NZST-3290vUhms3@https://www.fencing.org.nz/
DTSTAMP:20260424T204619Z
CATEGORIES:FeNZ
DESCRIPTION:<p>Entries:&nbsp\;<a href='https://www.revolutionise.com.au/fen
 cingmidsouth/events/147161/'>https://www.revolutionise.com.au/fencingmidso
 uth/events/147161/</a></p>\n<p>&nbsp\;</p>\n<p><strong>Timetable for NZ 20
 22 National U15/ Cadet/Junior Championships</strong></p>\n<p>To be held at
  St. Thomas’s of Canterbury\, Christchurch</p>\n<p><strong>Friday 23<sup>r
 d</sup> September</strong></p>\n<p>4:30pm Junior Men’s Foil</p>\n<p>&nbsp\
 ;&nbsp\;&nbsp\;&nbsp\;&nbsp\;&nbsp\;&nbsp\;&nbsp\;&nbsp\;&nbsp\;&nbsp\;&nb
 sp\;&nbsp\; Junior Women’s Epee</p>\n<p><strong>Saturday 24<sup>th</sup> S
 eptember</strong></p>\n<p>8:30am Cadet &amp\; U15 Sabre&nbsp\;&nbsp\;</p>
 \n<p>8:30am U15 Men’s Foil</p>\n<p>U15 Men’s Epee</p>\n<p>&nbsp\;&nbsp\;&n
 bsp\; PM&nbsp\;&nbsp\;&nbsp\; U15 Women’s Epee</p>\n<p>Cadet Men’s Epee</p
 >\n<p>Junior Sabre</p>\n<p>Junior Women’s Foil</p>\n<p><strong>&nbsp\;</st
 rong></p>\n<p><strong>Sunday 25<sup>th</sup> September</strong></p>\n<p><s
 trong>&nbsp\;</strong></p>\n<p>AM&nbsp\;&nbsp\;&nbsp\;&nbsp\;&nbsp\;&nbsp\
 ;&nbsp\; Junior Men’s Epee</p>\n<p>Under 15 Women’s Foil</p>\n<p>PM &nbsp\
 ;&nbsp\;&nbsp\;&nbsp\;&nbsp\;&nbsp\; Cadet men’s Foil</p>\n<p>Cadet Women’
 s Epee</p>\n<p>Cadet Women’s Foil&nbsp\;</p>\n<p>*Event start times will b
 e released once final registration numbers are know</p>\n<p>Link to inform
 ation and registration for the event&nbsp\; <a href='https://www.fencingmi
 dsouth.org.nz/events'>https://www.fencingmidsouth.org.nz/events</a></p>
DTSTART;TZID=Pacific/Auckland:20220924T110000
DTEND;TZID=Pacific/Auckland:20220925T210000
SUMMARY:NZ JUNIOR\, Under 15 & Cadet Championships - Christchurch
URL:https://bratac.hosts.net.nz/~fencing/events/events-calendar/27-fenz/154
 -nz-under-15-cadet-championships-christchurch
END:VEVENT
END:VCALENDAR
