BEGIN:VCALENDAR
VERSION:2.0
PRODID:-//https://bratac.hosts.net.nz/~fencing//NONSGML kigkonsult.se iCalc
 reator 2.23.20//
METHOD:PUBLISH
X-WR-CALNAME:JCal Pro Calendar
X-WR-CALDESC:Your online events calendar
X-WR-TIMEZONE:Pacific/Auckland
BEGIN:VTIMEZONE
TZID:Australia/Perth
BEGIN:STANDARD
DTSTART:20090329T030000
TZOFFSETFROM:+0900
TZOFFSETTO:+0800
TZNAME:AWST
END:STANDARD
END:VTIMEZONE
BEGIN:VEVENT
UID:20220930T080000AWST-9443ODsAxa@https://www.fencing.org.nz/
DTSTAMP:20260424T220413Z
CATEGORIES:International
DESCRIPTION:<p><a href='https://www.ausfencing.org/tribe-events/'>Australia
 n AFC Calendar here</a></p>
DTSTART;TZID=Australia/Perth:20220930T080000
DTEND;TZID=Australia/Perth:20221004T090000
SUMMARY:AFC#3 - Perth
URL:https://bratac.hosts.net.nz/~fencing/events/events-calendar/30-internat
 ional/147-afc-3-perth
END:VEVENT
END:VCALENDAR
