BEGIN:VCALENDAR
VERSION:2.0
PRODID:-//https://bratac.hosts.net.nz/~fencing//NONSGML kigkonsult.se iCalc
 reator 2.23.20//
METHOD:PUBLISH
X-WR-CALNAME:JCal Pro Calendar
X-WR-CALDESC:Your online events calendar
X-WR-TIMEZONE:Pacific/Auckland
BEGIN:VTIMEZONE
TZID:Pacific/Auckland
BEGIN:STANDARD
DTSTART:20220403T030000
TZOFFSETFROM:+1300
TZOFFSETTO:+1200
RDATE:20230402T030000,20240407T030000
TZNAME:NZST
END:STANDARD
BEGIN:DAYLIGHT
DTSTART:20220925T020000
TZOFFSETFROM:+1200
TZOFFSETTO:+1300
RDATE:20230924T020000
TZNAME:NZDT
END:DAYLIGHT
END:VTIMEZONE
BEGIN:VEVENT
UID:20221022T080000NZDT-7056uOWVgH@https://www.fencing.org.nz/
DTSTAMP:20260424T234940Z
CATEGORIES:FeNZ
DESCRIPTION:<h3>Please click on the Information pack below for the latest i
 nformation</h3>\n<p><a href='images/Oceania_and_NZ_Open_2022_-_Information
 _pack.pdf'>Information pack</a></p>\n<p>&nbsp\;</p>\n<h3>Entries are now o
 pen:&nbsp\;<a href='https://events.humanitix.com/oceania-and-nz-open-and-v
 eteran-final'>https://events.humanitix.com/oceania-and-nz-open-and-veteran
 -final</a></h3>\n<h3>&nbsp\;</h3>\n<h3>Location: Te Pai Netball Centre\, H
 enderson\, Auckland</h3>\n<p>Saturday 22<sup>nd</sup> October</p>\n<p>Men’
 s Foil &nbsp\;&nbsp\;&nbsp\;&nbsp\;&nbsp\;&nbsp\;&nbsp\;&nbsp\; Registrati
 on opens at 7:45\, Fencing starts at 8:30am<br /> Women’s Épée<br /> Men’s
  Sabre<br /> Women’s Sabre<br /> Oceania Men’s Foil Teams<br /> Oceania Wo
 men’s Épée Teams<br /> Oceania Men’s Sabre Teams<br /> Oceania Women’s Sab
 re Teams</p>\n<p>Sunday 23<sup>rd</sup> October</p>\n<p>Men’s Épée &nbsp\;
 &nbsp\;&nbsp\;&nbsp\;&nbsp\;&nbsp\; Registration opens at 9am\, Fencing st
 arts at 10am<br /> Women’s Foil<br /> Veteran Women’s &amp\; Men’s Sabre<b
 r /> Oceania Men’s Épée Teams<br /> Oceania Women’s Foil Teams</p>\n<p>Mon
 day 24<sup>th</sup> October</p>\n<p>Veteran Men’s &amp\; Women’s Épée<br /
 > Veteran Men’s &amp\; Women’s Foil</p>
DTSTART;TZID=Pacific/Auckland:20221022T080000
DTEND;TZID=Pacific/Auckland:20221024T180000
SUMMARY:Oceania & New Zealand National Fencing Championships - AUCKLAND
URL:https://bratac.hosts.net.nz/~fencing/events/events-calendar/27-fenz/125
 -new-zealand-fencing-championships
END:VEVENT
END:VCALENDAR
