BEGIN:VCALENDAR
VERSION:2.0
PRODID:-//https://bratac.hosts.net.nz/~fencing//NONSGML kigkonsult.se iCalc
 reator 2.23.20//
METHOD:PUBLISH
X-WR-CALNAME:JCal Pro Calendar
X-WR-CALDESC:Your online events calendar
X-WR-TIMEZONE:Pacific/Auckland
BEGIN:VTIMEZONE
TZID:Pacific/Auckland
BEGIN:STANDARD
DTSTART:20230402T030000
TZOFFSETFROM:+1300
TZOFFSETTO:+1200
RDATE:20240407T030000
TZNAME:NZST
END:STANDARD
BEGIN:DAYLIGHT
DTSTART:20220925T020000
TZOFFSETFROM:+1200
TZOFFSETTO:+1300
RDATE:20230924T020000
TZNAME:NZDT
END:DAYLIGHT
END:VTIMEZONE
BEGIN:VEVENT
UID:20230204T170000NZDT-10608bRDMc@https://www.fencing.org.nz/
DTSTAMP:20260424T184120Z
CATEGORIES:Central
DESCRIPTION:<p>To be held in Whanganui</p>
DTSTART;TZID=Pacific/Auckland:20230204T170000
DTEND;TZID=Pacific/Auckland:20230205T180000
SUMMARY:Masters' Games
URL:https://bratac.hosts.net.nz/~fencing/events/events-calendar/28-central/
 156-masters-games
END:VEVENT
END:VCALENDAR
