BEGIN:VCALENDAR
VERSION:2.0
PRODID:-//https://bratac.hosts.net.nz/~fencing//NONSGML kigkonsult.se iCalc
 reator 2.23.20//
METHOD:PUBLISH
X-WR-CALNAME:JCal Pro Calendar
X-WR-CALDESC:Your online events calendar
X-WR-TIMEZONE:Pacific/Auckland
BEGIN:VTIMEZONE
TZID:Pacific/Auckland
BEGIN:STANDARD
DTSTART:20230402T030000
TZOFFSETFROM:+1300
TZOFFSETTO:+1200
RDATE:20240407T030000
TZNAME:NZST
END:STANDARD
BEGIN:DAYLIGHT
DTSTART:20220925T020000
TZOFFSETFROM:+1200
TZOFFSETTO:+1300
RDATE:20230924T020000,20240929T020000
TZNAME:NZDT
END:DAYLIGHT
END:VTIMEZONE
BEGIN:VEVENT
UID:20230401T190000NZDT-4443dmUPgH@https://www.fencing.org.nz/
DTSTAMP:20260424T151758Z
CATEGORIES:South
DESCRIPTION:<div>Fencing South will be hosting the Russell Towns Open on th
 e weekend of the 1-2nd April 2023.</div>\n<div></div>\n<div></div>\n<div>
 \n<div>The competition will be held at Claymore Swords Club\, 106 Bond St 
 (Cnr of Police St and Bond St)\, Dunedin.</div>\n<div></div>\n<div>Registr
 ation will be open 9am - 9.15am and fencing starts at 9.30 on each day.</d
 iv>\n<div></div>\n<div></div>\n</div>\n<div>This is a FENZ competition so 
 you must be a FENZ competitive member to take part.\n<div>You can sign up 
 for your membership at the below link:</div>\n<div></div>\n<div><a href='m
 embership/membership-options' target='_blank' rel='noopener' data-saferedi
 recturl='https://www.google.com/url?q=https://www.fencing.org.nz/membershi
 p/membership-options&amp\;source=gmail&amp\;ust=1678865245434000&amp\;usg=
 AOvVaw3jEN4m6aPhTAenqECm30sd'>https://www.fencing.org.nz/<wbr />membership
 /membership-options</a></div>\n<div></div>\n<div>It is not a ranking compe
 tition\, as the first open competition of the year\, we wanted to have a m
 ore welcoming competition so if you haven't competed before and want to gi
 ve it a try please come along.</div>\n<div></div>\n<div>The exact format o
 f the competition will depend on number of entries but we will adjust it t
 o make sure everyone gets a good amount of fencing and has fun.</div>\n<di
 v></div>\n<div>Further information can be found on the entry form that is 
 available at the link below:</div>\n</div>\n<div></div>\n<div><a href='htt
 ps://forms.gle/DQ2h63K6vZFWQwts7'>https://forms.gle/DQ2h63K6vZFWQwts7</a><
 /div>
DTSTART;TZID=Pacific/Auckland:20230401T190000
DTEND;TZID=Pacific/Auckland:20230402T160000
SUMMARY:Russel Towns
URL:https://bratac.hosts.net.nz/~fencing/events/events-calendar/29-south/18
 2-russel-towns
END:VEVENT
BEGIN:VEVENT
UID:20200405T090000NZST-4246dxtZvc@https://www.fencing.org.nz/
DTSTAMP:20260424T151758Z
CATEGORIES:Central
DESCRIPTION:<p>Email: <span id='cloakb17c76921913db51e382d353f7721835'>This
  email address is being protected from spambots. You need JavaScript enabl
 ed to view it.</span><script type='text/javascript'>\n				document.getElementB
 yId('cloakb17c76921913db51e382d353f7721835').innerHTML = ''\;\n				var prefix 
 = '&#109\;a' + 'i&#108\;' + '&#116\;o'\;\n				var path = 'hr' + 'ef' + '='\;\n
 				var addyb17c76921913db51e382d353f7721835 = 't&#111\;&#117\;rn&#97\;m&#101\
 ;nts' + '&#64\;'\;\n				addyb17c76921913db51e382d353f7721835 = addyb17c7692191
 3db51e382d353f7721835 + 'f&#101\;nc&#105\;ngc&#101\;ntr&#97\;l' + '&#46\;'
  + '&#111\;rg' + '&#46\;' + 'nz'\;\n				var addy_textb17c76921913db51e382d353f
 7721835 = 't&#111\;&#117\;rn&#97\;m&#101\;nts' + '&#64\;' + 'f&#101\;nc&#1
 05\;ngc&#101\;ntr&#97\;l' + '&#46\;' + '&#111\;rg' + '&#46\;' + 'nz'\;docu
 ment.getElementById('cloakb17c76921913db51e382d353f7721835').innerHTML += 
 '<a ' + path + '\'' + prefix + ':' + addyb17c76921913db51e382d353f7721835 
 + '\'>'+addy_textb17c76921913db51e382d353f7721835+'<\/a>'\;\n		</script>&nbs
 p\;</p>
DTSTART;TZID=Pacific/Auckland:20230402T090000
DTEND;TZID=Pacific/Auckland:20230402T100000
SUMMARY:Central U11 and U13 #1
URL:https://bratac.hosts.net.nz/~fencing/events/events-calendar/28-central/
 88-central-u11-and-u13-1
END:VEVENT
END:VCALENDAR
