BEGIN:VCALENDAR
VERSION:2.0
PRODID:-//https://bratac.hosts.net.nz/~fencing//NONSGML kigkonsult.se iCalc
 reator 2.23.20//
METHOD:PUBLISH
X-WR-CALNAME:JCal Pro Calendar
X-WR-CALDESC:Your online events calendar
X-WR-TIMEZONE:Pacific/Auckland
BEGIN:VTIMEZONE
TZID:Pacific/Auckland
BEGIN:STANDARD
DTSTART:20230402T030000
TZOFFSETFROM:+1300
TZOFFSETTO:+1200
RDATE:20240407T030000
TZNAME:NZST
END:STANDARD
BEGIN:DAYLIGHT
DTSTART:20220925T020000
TZOFFSETFROM:+1200
TZOFFSETTO:+1300
RDATE:20230924T020000,20240929T020000
TZNAME:NZDT
END:DAYLIGHT
END:VTIMEZONE
BEGIN:VEVENT
UID:20230410T060000NZST-5073VxUJak@https://www.fencing.org.nz/
DTSTAMP:20260424T151819Z
CATEGORIES:North
DESCRIPTION:
DTSTART;TZID=Pacific/Auckland:20230410T080000
DTEND;TZID=Pacific/Auckland:20230410T090000
SUMMARY:G Ongley Memorial Tournament [Ranked Event]
URL:https://bratac.hosts.net.nz/~fencing/events/events-calendar/26-north/16
 9-g-ongley-memorial-tournament
END:VEVENT
END:VCALENDAR
