BEGIN:VCALENDAR
VERSION:2.0
PRODID:-//https://bratac.hosts.net.nz/~fencing//NONSGML kigkonsult.se iCalc
 reator 2.23.20//
METHOD:PUBLISH
X-WR-CALNAME:JCal Pro Calendar
X-WR-CALDESC:Your online events calendar
X-WR-TIMEZONE:Pacific/Auckland
BEGIN:VTIMEZONE
TZID:Pacific/Auckland
BEGIN:STANDARD
DTSTART:20230402T030000
TZOFFSETFROM:+1300
TZOFFSETTO:+1200
RDATE:20240407T030000
TZNAME:NZST
END:STANDARD
BEGIN:DAYLIGHT
DTSTART:20220925T020000
TZOFFSETFROM:+1200
TZOFFSETTO:+1300
RDATE:20230924T020000,20240929T020000
TZNAME:NZDT
END:DAYLIGHT
END:VTIMEZONE
BEGIN:VEVENT
UID:20230415T180000NZST-3614EtzDru@https://www.fencing.org.nz/
DTSTAMP:20260424T151814Z
CATEGORIES:South
DESCRIPTION:<div>\n<div>Fencing South will be hosting the University Fencin
 g Championships on the weekend of the 15-16th April 2023.</div>\n<div></di
 v>\n<div>\n<div>The competition will be held at Claymore Swords Club\, 106
  Bond St (Cnr of Police St and Bond St)\, Dunedin.</div>\n<div></div>\n<di
 v>Registration will be open 9am - 9.15am and fencing starts at 9.30 on eac
 h day. with Sabre on the saturday opening 12-12.15 and starting at 12.30 (
 assuming enough entrants)</div>\n<div></div>\n<div></div>\n</div>\n<div>Th
 is is not a FENZ competition so there is no requirement to be a FENZ compe
 titive member\, however we do highly recommend signing up at least as a re
 creational fencer (at no cost) to keep in touch with what is going on in f
 encing.</div>\n<div><br />\n<div>You can sign up for your membership at th
 e below link:</div>\n<div></div>\n<div><a href='membership/membership-opti
 ons' target='_blank' rel='noopener' data-saferedirecturl='https://www.goog
 le.com/url?q=https://www.fencing.org.nz/membership/membership-options&amp\
 ;source=gmail&amp\;ust=1678870952663000&amp\;usg=AOvVaw1XFxkme_HzF5aT5SYYp
 8xL'>https://www.fencing.org.nz/<wbr />membership/membership-options</a></
 div>\n<div></div>\n<div>Anyone is welcome to take part in this competition
  though we will have separate awards for top University fencers.</div>\n<d
 iv></div>\n<div>Further information can be found on the entry form that is
  available at the link below:</div>\n</div>\n</div>\n<div></div>\n<p><a hr
 ef='https://forms.gle/FZ6b6rSnULXb19yn6'>https://forms.gle/FZ6b6rSnULXb19y
 n6</a></p>
DTSTART;TZID=Pacific/Auckland:20230415T180000
DTEND;TZID=Pacific/Auckland:20230416T190000
SUMMARY:University Fencing Championships
URL:https://bratac.hosts.net.nz/~fencing/events/events-calendar/29-south/15
 8-university-fencing-championships
END:VEVENT
END:VCALENDAR
