BEGIN:VCALENDAR
VERSION:2.0
PRODID:-//https://bratac.hosts.net.nz/~fencing//NONSGML kigkonsult.se iCalc
 reator 2.23.20//
METHOD:PUBLISH
X-WR-CALNAME:JCal Pro Calendar
X-WR-CALDESC:Your online events calendar
X-WR-TIMEZONE:Pacific/Auckland
BEGIN:VTIMEZONE
TZID:Pacific/Auckland
BEGIN:STANDARD
DTSTART:20230402T030000
TZOFFSETFROM:+1300
TZOFFSETTO:+1200
RDATE:20240407T030000
TZNAME:NZST
END:STANDARD
BEGIN:DAYLIGHT
DTSTART:20230924T020000
TZOFFSETFROM:+1200
TZOFFSETTO:+1300
RDATE:20240929T020000
TZNAME:NZDT
END:DAYLIGHT
END:VTIMEZONE
BEGIN:VEVENT
UID:20230701T180000NZST-0350HTsver@https://www.fencing.org.nz/
DTSTAMP:20260424T133122Z
CATEGORIES:FeNZ,South
DESCRIPTION:<p><strong>Entries and further information about subsidies here
 :</strong>&nbsp\;&nbsp\;<a href='https://forms.gle/V5qhCfwugeCzn3W37'>http
 s://forms.gle/V5qhCfwugeCzn3W37</a></p>\n<p>Or\, entries and payments can 
 be made through here (Overseas Fencers should use this for Online registra
 tions and Entry Fee payments):&nbsp\;&nbsp\;<a href='https://events.humani
 tix.com/oceania-and-nz-national-u20s-2023'>https://events.humanitix.com/oc
 eania-and-nz-national-u20s-2023</a></p>\n<p>&nbsp\;</p>\n<p><strong style=
 'background-color: inherit\; color: inherit\; font-family: inherit\; font-
 size: 1rem\;'>Oceania &amp\; New Zealand Juniors</strong></p>\n<p><strong>
 Dunedin</strong></p>\n<p><strong>1<sup>st</sup> &amp\; 2<sup>nd</sup> July
 \, 2023</strong></p>\n<table>\n<tbody>\n<tr>\n<td colspan='4'>\n<p><strong
 >&nbsp\;</strong></p>\n<p><strong>Saturday 1st July</strong></p>\n</td>\n<
 /tr>\n<tr>\n<td>\n<p><strong>Event</strong></p>\n</td>\n<td>\n<p><strong>R
 egistration opens</strong></p>\n</td>\n<td>\n<p><strong>Registration close
 s</strong></p>\n</td>\n<td>\n<p><strong>Start time</strong></p>\n</td>\n</
 tr>\n<tr>\n<td>\n<p>Men’s Foil</p>\n</td>\n<td>\n<p>8:30am</p>\n</td>\n<td
 >\n<p>8:45am</p>\n</td>\n<td>\n<p>9:15am</p>\n</td>\n</tr>\n<tr>\n<td>\n<p
 >Women’s Épée</p>\n</td>\n<td>\n<p>8:45am</p>\n</td>\n<td>\n<p>9:00am</p>
 \n</td>\n<td>\n<p>9:45am</p>\n</td>\n</tr>\n<tr>\n<td>\n<p>Women’s Sabre</
 p>\n</td>\n<td>\n<p>10:00am</p>\n</td>\n<td>\n<p>10:15am</p>\n</td>\n<td>
 \n<p>Approx. 10:30am</p>\n</td>\n</tr>\n<tr>\n<td>\n<p>Men’s Sabre</p>\n</
 td>\n<td>\n<p>1:00pm</p>\n</td>\n<td>\n<p>1:15pm</p>\n</td>\n<td>\n<p>Appr
 ox. 1.30pm</p>\n</td>\n</tr>\n<tr>\n<td colspan='4'>\n<p><strong>&nbsp\;</
 strong></p>\n<p><strong>Sunday 2nd July</strong></p>\n</td>\n</tr>\n<tr>\n
 <td>\n<p><strong>Event</strong></p>\n</td>\n<td>\n<p><strong>Registration 
 opens</strong></p>\n</td>\n<td>\n<p><strong>Registration closes</strong></
 p>\n</td>\n<td>\n<p><strong>Start time</strong></p>\n</td>\n</tr>\n<tr>\n<
 td>\n<p>Men’s Épée</p>\n</td>\n<td>\n<p>8:30am</p>\n</td>\n<td>\n<p>8:45am
 </p>\n</td>\n<td>\n<p>9:15am</p>\n</td>\n</tr>\n<tr>\n<td>\n<p>Women’s Foi
 l</p>\n</td>\n<td>\n<p>8:45am</p>\n</td>\n<td>\n<p>9:00am</p>\n</td>\n<td>
 \n<p>9:45am</p>\n</td>\n</tr>\n<tr>\n<td>\n<p>Men’s Sabre Teams</p>\n</td>
 \n<td>&nbsp\;</td>\n<td>&nbsp\;</td>\n<td>\n<p>10:30am</p>\n</td>\n</tr>\n
 </tbody>\n</table>\n<p>Sabre Individual times will be confirmed once norma
 l entries close but will not be earlier than indicated above.</p>
DTSTART;TZID=Pacific/Auckland:20230701T180000
DTEND;TZID=Pacific/Auckland:20230702T190000
SUMMARY:Oceania and NZ Junior (U20) Championships
URL:https://bratac.hosts.net.nz/~fencing/events/events-calendar/27-fenz/160
 -nz-junior-u20-championships
END:VEVENT
END:VCALENDAR
