BEGIN:VCALENDAR
VERSION:2.0
PRODID:-//https://bratac.hosts.net.nz/~fencing//NONSGML kigkonsult.se iCalc
 reator 2.23.20//
METHOD:PUBLISH
X-WR-CALNAME:JCal Pro Calendar
X-WR-CALDESC:Your online events calendar
X-WR-TIMEZONE:Pacific/Auckland
BEGIN:VTIMEZONE
TZID:Pacific/Auckland
BEGIN:STANDARD
DTSTART:20230402T030000
TZOFFSETFROM:+1300
TZOFFSETTO:+1200
RDATE:20240407T030000
TZNAME:NZST
END:STANDARD
BEGIN:DAYLIGHT
DTSTART:20230924T020000
TZOFFSETFROM:+1200
TZOFFSETTO:+1300
RDATE:20240929T020000
TZNAME:NZDT
END:DAYLIGHT
END:VTIMEZONE
BEGIN:VEVENT
UID:20230715T180000NZST-49608LIdvv@https://www.fencing.org.nz/
DTSTAMP:20260424T133350Z
CATEGORIES:FeNZ,North
DESCRIPTION:<p>Auckland - Mt Albert Grammar School\, Alberton Avenue\, Moun
 t Albert\, Auckland 1025</p>\n<p>&nbsp\;<br /><a href='https://events.huma
 nitix.com/north-island-championships-2023'>CLICK FOR EVENT INFORMATION AND
  REGISTRATIONS</a></p>\n<p>&nbsp\;</p>\n<p>&nbsp\;</p>\n<table>\n<tbody>\n
 <tr>\n<td colspan='4'>\n<p><strong>Preliminary Timetable for Presidents Cu
 p/North Island Champs/South Island Champs 2023</strong></p>\n</td>\n</tr>
 \n<tr>\n<td colspan='4'>\n<p><strong>Saturday </strong></p>\n</td>\n</tr>
 \n<tr>\n<td>\n<p><strong>Event</strong></p>\n</td>\n<td>\n<p><strong>Regis
 tration Opens</strong></p>\n</td>\n<td>\n<p><strong>Registration Closes</s
 trong></p>\n</td>\n<td>\n<p><strong>Event Start Time </strong></p>\n</td>
 \n</tr>\n<tr>\n<td>\n<p>Men's Foil</p>\n</td>\n<td>\n<p>7.45am</p>\n</td>
 \n<td>\n<p>8.00am</p>\n</td>\n<td>\n<p>8.30am</p>\n</td>\n</tr>\n<tr>\n<td
 >\n<p>Women's Epee</p>\n</td>\n<td>\n<p>8.45am*</p>\n</td>\n<td>\n<p>9.00a
 m*</p>\n</td>\n<td>\n<p>9.30am/10.30am*</p>\n</td>\n</tr>\n<tr>\n<td>\n<p>
 Men's Sabre</p>\n</td>\n<td>\n<p>11.30am*</p>\n</td>\n<td>\n<p>11.45am*</p
 >\n</td>\n<td>\n<p>12.30pm*</p>\n</td>\n</tr>\n<tr>\n<td>\n<p>Women's Sabr
 e</p>\n</td>\n<td>\n<p>11.30am*</p>\n</td>\n<td>\n<p>11.45am*</p>\n</td>\n
 <td>\n<p>12.30pm*</p>\n</td>\n</tr>\n<tr>\n<td>\n<p>Veteran Event</p>\n</t
 d>\n<td>\n<p>1.15pm</p>\n</td>\n<td>\n<p>1.30pm</p>\n</td>\n<td>\n<p>2.00p
 m</p>\n</td>\n</tr>\n<tr>\n<td colspan='4'>\n<p><strong>Sunday </strong></
 p>\n</td>\n</tr>\n<tr>\n<td>\n<p><strong>Event</strong></p>\n</td>\n<td>\n
 <p><strong>Registration Opens</strong></p>\n</td>\n<td>\n<p><strong>Regist
 ration Closes</strong></p>\n</td>\n<td>\n<p><strong>Event Start Time </str
 ong></p>\n</td>\n</tr>\n<tr>\n<td>\n<p>Men's Epee</p>\n</td>\n<td>\n<p>7.4
 5am</p>\n</td>\n<td>\n<p>8.00am</p>\n</td>\n<td>\n<p>8.30am</p>\n</td>\n</
 tr>\n<tr>\n<td>\n<p>Women's Foil</p>\n</td>\n<td>\n<p>8.45am*</p>\n</td>\n
 <td>\n<p>9.00am*</p>\n</td>\n<td>\n<p>9.30am/10.30am*</p>\n</td>\n</tr>\n<
 tr>\n<td>&nbsp\;</td>\n<td>&nbsp\;</td>\n<td>&nbsp\;</td>\n<td>&nbsp\;</td
 >\n</tr>\n<tr>\n<td colspan='4'>\n<p>*start time will be confirmed once en
 tries are received</p>\n</td>\n</tr>\n</tbody>\n</table>
DTSTART;TZID=Pacific/Auckland:20230715T080000
DTEND;TZID=Pacific/Auckland:20230716T190000
SUMMARY:North Island Championships and Veteran Foil
URL:https://bratac.hosts.net.nz/~fencing/events/events-calendar/27-fenz/161
 -north-island-championships-and-veteran-foil
END:VEVENT
END:VCALENDAR
