BEGIN:VCALENDAR
VERSION:2.0
PRODID:-//https://bratac.hosts.net.nz/~fencing//NONSGML kigkonsult.se iCalc
 reator 2.23.20//
METHOD:PUBLISH
X-WR-CALNAME:JCal Pro Calendar
X-WR-CALDESC:Your online events calendar
X-WR-TIMEZONE:Pacific/Auckland
BEGIN:VTIMEZONE
TZID:Pacific/Auckland
BEGIN:STANDARD
DTSTART:20230402T030000
TZOFFSETFROM:+1300
TZOFFSETTO:+1200
RDATE:20240407T030000
TZNAME:NZST
END:STANDARD
BEGIN:DAYLIGHT
DTSTART:20230924T020000
TZOFFSETFROM:+1200
TZOFFSETTO:+1300
RDATE:20240929T020000
TZNAME:NZDT
END:DAYLIGHT
END:VTIMEZONE
BEGIN:VEVENT
UID:20230729T080000NZST-1550hxPuNv@https://www.fencing.org.nz/
DTSTAMP:20260424T133237Z
CATEGORIES:Mid South
DESCRIPTION:
DTSTART;TZID=Pacific/Auckland:20230729T080000
DTEND;TZID=Pacific/Auckland:20230730T170000
SUMMARY:Mid South Secondary Schools
URL:https://bratac.hosts.net.nz/~fencing/events/events-calendar/25-mid-sout
 h/190-mid-south-secondary-schools
END:VEVENT
BEGIN:VEVENT
UID:20190615T100000NZST-7671tvio0V@http://bratac.hosts.net.nz/~fencing/
DTSTAMP:20260424T133237Z
CATEGORIES:Central
DESCRIPTION:<p>Email:&nbsp\;<span id='cloak1bc1d325467c4fd0df7d6937db7ffed5
 '>This email address is being protected from spambots. You need JavaScript
  enabled to view it.</span><script type='text/javascript'>
				document.getElem
 entById('cloak1bc1d325467c4fd0df7d6937db7ffed5').innerHTML = ''\;
				var prefi
 x = '&#109\;a' + 'i&#108\;' + '&#116\;o'\;
				var path = 'hr' + 'ef' + '='\;
				va
 r addy1bc1d325467c4fd0df7d6937db7ffed5 = 't&#111\;&#117\;rn&#97\;m&#101\;n
 ts' + '&#64\;'\;
				addy1bc1d325467c4fd0df7d6937db7ffed5 = addy1bc1d325467c4fd
 0df7d6937db7ffed5 + 'f&#101\;nc&#105\;ngc&#101\;ntr&#97\;l' + '&#46\;' + '
 &#111\;rg' + '&#46\;' + 'nz'\;
				var addy_text1bc1d325467c4fd0df7d6937db7ffed
 5 = 't&#111\;&#117\;rn&#97\;m&#101\;nts' + '&#64\;' + 'f&#101\;nc&#105\;ng
 c&#101\;ntr&#97\;l' + '&#46\;' + '&#111\;rg' + '&#46\;' + 'nz'\;document.g
 etElementById('cloak1bc1d325467c4fd0df7d6937db7ffed5').innerHTML += '<a ' 
 + path + '\'' + prefix + ':' + addy1bc1d325467c4fd0df7d6937db7ffed5 + '\'>
 '+addy_text1bc1d325467c4fd0df7d6937db7ffed5+'<\/a>'\;
		</script>&nbsp\;</p>
 \n<p>&nbsp\;</p>
DTSTART;TZID=Pacific/Auckland:20230729T100000
DTEND;TZID=Pacific/Auckland:20230731T160000
SUMMARY:Central Secondary School Championships
URL:https://bratac.hosts.net.nz/~fencing/events/events-calendar/28-central/
 38-central-ss-champs-ind
END:VEVENT
END:VCALENDAR
