BEGIN:VCALENDAR
VERSION:2.0
PRODID:-//https://bratac.hosts.net.nz/~fencing//NONSGML kigkonsult.se iCalc
 reator 2.23.20//
METHOD:PUBLISH
X-WR-CALNAME:JCal Pro Calendar
X-WR-CALDESC:Your online events calendar
X-WR-TIMEZONE:Pacific/Auckland
BEGIN:VTIMEZONE
TZID:Pacific/Auckland
BEGIN:STANDARD
DTSTART:20230402T030000
TZOFFSETFROM:+1300
TZOFFSETTO:+1200
RDATE:20240407T030000
TZNAME:NZST
END:STANDARD
BEGIN:DAYLIGHT
DTSTART:20230924T020000
TZOFFSETFROM:+1200
TZOFFSETTO:+1300
RDATE:20240929T020000
TZNAME:NZDT
END:DAYLIGHT
END:VTIMEZONE
BEGIN:VEVENT
UID:20200830T090000NZST-1524KUG4r9@https://www.fencing.org.nz/
DTSTAMP:20260424T152001Z
CATEGORIES:Central
DESCRIPTION:<p>VUWSC</p>\n<p>Email: <span id='cloak5026eb13ffbafd076316d83a
 60e70ed3'>This email address is being protected from spambots. You need Ja
 vaScript enabled to view it.</span><script type='text/javascript'>
				document
 .getElementById('cloak5026eb13ffbafd076316d83a60e70ed3').innerHTML = ''\;
				v
 ar prefix = '&#109\;a' + 'i&#108\;' + '&#116\;o'\;
				var path = 'hr' + 'ef' +
  '='\;
				var addy5026eb13ffbafd076316d83a60e70ed3 = 'v&#117\;wf&#101\;nc&#105
 \;ng' + '&#64\;'\;
				addy5026eb13ffbafd076316d83a60e70ed3 = addy5026eb13ffbaf
 d076316d83a60e70ed3 + 'gm&#97\;&#105\;l' + '&#46\;' + 'c&#111\;m'\;
				var add
 y_text5026eb13ffbafd076316d83a60e70ed3 = 'v&#117\;wf&#101\;nc&#105\;ng' + 
 '&#64\;' + 'gm&#97\;&#105\;l' + '&#46\;' + 'c&#111\;m'\;document.getElemen
 tById('cloak5026eb13ffbafd076316d83a60e70ed3').innerHTML += '<a ' + path +
  '\'' + prefix + ':' + addy5026eb13ffbafd076316d83a60e70ed3 + '\'>'+addy_t
 ext5026eb13ffbafd076316d83a60e70ed3+'<\/a>'\;
		</script>&nbsp\;</p>
DTSTART;TZID=Pacific/Auckland:20230812T090000
DTEND;TZID=Pacific/Auckland:20230813T100000
SUMMARY:Wellington Invitational (WIFE)
URL:https://bratac.hosts.net.nz/~fencing/events/events-calendar/28-central/
 86-wife
END:VEVENT
END:VCALENDAR
