BEGIN:VCALENDAR
VERSION:2.0
PRODID:-//https://bratac.hosts.net.nz/~fencing//NONSGML kigkonsult.se iCalc
 reator 2.23.20//
METHOD:PUBLISH
X-WR-CALNAME:JCal Pro Calendar
X-WR-CALDESC:Your online events calendar
X-WR-TIMEZONE:Pacific/Auckland
BEGIN:VTIMEZONE
TZID:Pacific/Auckland
BEGIN:STANDARD
DTSTART:20230402T030000
TZOFFSETFROM:+1300
TZOFFSETTO:+1200
RDATE:20240407T030000
TZNAME:NZST
END:STANDARD
BEGIN:DAYLIGHT
DTSTART:20230924T020000
TZOFFSETFROM:+1200
TZOFFSETTO:+1300
RDATE:20240929T020000
TZNAME:NZDT
END:DAYLIGHT
END:VTIMEZONE
BEGIN:VEVENT
UID:20200830T090000NZST-1524KUG4r9@https://www.fencing.org.nz/
DTSTAMP:20260424T153403Z
CATEGORIES:Central
DESCRIPTION:<p>VUWSC</p>\n<p>Email: <span id='cloakb5906d00968c4cfd695bd146
 fc02e547'>This email address is being protected from spambots. You need Ja
 vaScript enabled to view it.</span><script type='text/javascript'>
				document
 .getElementById('cloakb5906d00968c4cfd695bd146fc02e547').innerHTML = ''\;
				v
 ar prefix = '&#109\;a' + 'i&#108\;' + '&#116\;o'\;
				var path = 'hr' + 'ef' +
  '='\;
				var addyb5906d00968c4cfd695bd146fc02e547 = 'v&#117\;wf&#101\;nc&#105
 \;ng' + '&#64\;'\;
				addyb5906d00968c4cfd695bd146fc02e547 = addyb5906d00968c4
 cfd695bd146fc02e547 + 'gm&#97\;&#105\;l' + '&#46\;' + 'c&#111\;m'\;
				var add
 y_textb5906d00968c4cfd695bd146fc02e547 = 'v&#117\;wf&#101\;nc&#105\;ng' + 
 '&#64\;' + 'gm&#97\;&#105\;l' + '&#46\;' + 'c&#111\;m'\;document.getElemen
 tById('cloakb5906d00968c4cfd695bd146fc02e547').innerHTML += '<a ' + path +
  '\'' + prefix + ':' + addyb5906d00968c4cfd695bd146fc02e547 + '\'>'+addy_t
 extb5906d00968c4cfd695bd146fc02e547+'<\/a>'\;
		</script>&nbsp\;</p>
DTSTART;TZID=Pacific/Auckland:20230812T090000
DTEND;TZID=Pacific/Auckland:20230813T100000
SUMMARY:Wellington Invitational (WIFE)
URL:https://bratac.hosts.net.nz/~fencing/events/events-calendar/28-central/
 86-wife
END:VEVENT
BEGIN:VEVENT
UID:20230813T070000NZST-3334A7Khgv@https://www.fencing.org.nz/
DTSTAMP:20260424T153403Z
CATEGORIES:South
DESCRIPTION:
DTSTART;TZID=Pacific/Auckland:20230813T070000
DTEND;TZID=Pacific/Auckland:20230813T160000
SUMMARY:South Age Group #3
URL:https://bratac.hosts.net.nz/~fencing/events/events-calendar/29-south/18
 4-south-age-group-3
END:VEVENT
BEGIN:VEVENT
UID:20230813T080000NZST-67156tD3ZU@https://www.fencing.org.nz/
DTSTAMP:20260424T153403Z
CATEGORIES:North
DESCRIPTION:
DTSTART;TZID=Pacific/Auckland:20230813T080000
DTEND;TZID=Pacific/Auckland:20230813T090000
SUMMARY:Northern Secondary Schools Championships 
URL:https://bratac.hosts.net.nz/~fencing/events/events-calendar/26-north/17
 5-northern-secondary-schools-championships
END:VEVENT
END:VCALENDAR
