BEGIN:VCALENDAR
VERSION:2.0
PRODID:-//https://bratac.hosts.net.nz/~fencing//NONSGML kigkonsult.se iCalc
 reator 2.23.20//
METHOD:PUBLISH
X-WR-CALNAME:JCal Pro Calendar
X-WR-CALDESC:Your online events calendar
X-WR-TIMEZONE:Pacific/Auckland
BEGIN:VTIMEZONE
TZID:Pacific/Auckland
BEGIN:STANDARD
DTSTART:20230402T030000
TZOFFSETFROM:+1300
TZOFFSETTO:+1200
RDATE:20240407T030000
TZNAME:NZST
END:STANDARD
BEGIN:DAYLIGHT
DTSTART:20230924T020000
TZOFFSETFROM:+1200
TZOFFSETTO:+1300
RDATE:20240929T020000
TZNAME:NZDT
END:DAYLIGHT
END:VTIMEZONE
BEGIN:VEVENT
UID:20230909T070000NZST-4231aIAxoG@https://www.fencing.org.nz/
DTSTAMP:20260424T133346Z
CATEGORIES:South,FeNZ
DESCRIPTION:
DTSTART;TZID=Pacific/Auckland:20230909T070000
DTEND;TZID=Pacific/Auckland:20230910T160000
SUMMARY:South Champs [Ranked Event]
URL:https://bratac.hosts.net.nz/~fencing/events/events-calendar/29-south/18
 5-south-champs
END:VEVENT
BEGIN:VEVENT
UID:20201025T200000NZDT-4766XjGgT4@https://www.fencing.org.nz/
DTSTAMP:20260424T133346Z
CATEGORIES:Central
DESCRIPTION:<p>Email: <span id='cloak23af92446bb489450e9fcb9eb1952f4f'>This
  email address is being protected from spambots. You need JavaScript enabl
 ed to view it.</span><script type='text/javascript'>\n				document.getElementB
 yId('cloak23af92446bb489450e9fcb9eb1952f4f').innerHTML = ''\;\n				var prefix 
 = '&#109\;a' + 'i&#108\;' + '&#116\;o'\;\n				var path = 'hr' + 'ef' + '='\;\n
 				var addy23af92446bb489450e9fcb9eb1952f4f = 't&#111\;&#117\;rn&#97\;m&#101\
 ;nts' + '&#64\;'\;\n				addy23af92446bb489450e9fcb9eb1952f4f = addy23af92446bb
 489450e9fcb9eb1952f4f + 'f&#101\;nc&#105\;ngc&#101\;ntr&#97\;l' + '&#46\;'
  + '&#111\;rg' + '&#46\;' + 'nz'\;\n				var addy_text23af92446bb489450e9fcb9eb
 1952f4f = 't&#111\;&#117\;rn&#97\;m&#101\;nts' + '&#64\;' + 'f&#101\;nc&#1
 05\;ngc&#101\;ntr&#97\;l' + '&#46\;' + '&#111\;rg' + '&#46\;' + 'nz'\;docu
 ment.getElementById('cloak23af92446bb489450e9fcb9eb1952f4f').innerHTML += 
 '<a ' + path + '\'' + prefix + ':' + addy23af92446bb489450e9fcb9eb1952f4f 
 + '\'>'+addy_text23af92446bb489450e9fcb9eb1952f4f+'<\/a>'\;\n		</script>&nbs
 p\;</p>
DTSTART;TZID=Pacific/Auckland:20230909T200000
DTEND;TZID=Pacific/Auckland:20230909T210000
SUMMARY:Central SS Novice #2
URL:https://bratac.hosts.net.nz/~fencing/events/events-calendar/28-central/
 99-central-ss-novice-2
END:VEVENT
BEGIN:VEVENT
UID:20220403T090000NZST-2875FSvPbR@https://www.fencing.org.nz/
DTSTAMP:20260424T133346Z
CATEGORIES:Central
DESCRIPTION:<p>Email: <span id='cloak997533cdb28d2cf48c906eb2583666bd'>This
  email address is being protected from spambots. You need JavaScript enabl
 ed to view it.</span><script type='text/javascript'>\n				document.getElementB
 yId('cloak997533cdb28d2cf48c906eb2583666bd').innerHTML = ''\;\n				var prefix 
 = '&#109\;a' + 'i&#108\;' + '&#116\;o'\;\n				var path = 'hr' + 'ef' + '='\;\n
 				var addy997533cdb28d2cf48c906eb2583666bd = 't&#111\;&#117\;rn&#97\;m&#101\
 ;nts' + '&#64\;'\;\n				addy997533cdb28d2cf48c906eb2583666bd = addy997533cdb28
 d2cf48c906eb2583666bd + 'f&#101\;nc&#105\;ngc&#101\;ntr&#97\;l' + '&#46\;'
  + '&#111\;rg' + '&#46\;' + 'nz'\;\n				var addy_text997533cdb28d2cf48c906eb25
 83666bd = 't&#111\;&#117\;rn&#97\;m&#101\;nts' + '&#64\;' + 'f&#101\;nc&#1
 05\;ngc&#101\;ntr&#97\;l' + '&#46\;' + '&#111\;rg' + '&#46\;' + 'nz'\;docu
 ment.getElementById('cloak997533cdb28d2cf48c906eb2583666bd').innerHTML += 
 '<a ' + path + '\'' + prefix + ':' + addy997533cdb28d2cf48c906eb2583666bd 
 + '\'>'+addy_text997533cdb28d2cf48c906eb2583666bd+'<\/a>'\;\n		</script>&nbs
 p\;</p>
DTSTART;TZID=Pacific/Auckland:20230910T090000
SUMMARY:Central U11 and U13 #3
URL:https://bratac.hosts.net.nz/~fencing/events/events-calendar/28-central/
 126-central-u11-and-u13-1-2
END:VEVENT
END:VCALENDAR
