BEGIN:VCALENDAR
VERSION:2.0
PRODID:-//https://bratac.hosts.net.nz/~fencing//NONSGML kigkonsult.se iCalc
 reator 2.23.20//
METHOD:PUBLISH
X-WR-CALNAME:JCal Pro Calendar
X-WR-CALDESC:Your online events calendar
X-WR-TIMEZONE:Pacific/Auckland
BEGIN:VTIMEZONE
TZID:Pacific/Auckland
BEGIN:STANDARD
DTSTART:20230402T030000
TZOFFSETFROM:+1300
TZOFFSETTO:+1200
RDATE:20240407T030000
TZNAME:NZST
END:STANDARD
BEGIN:DAYLIGHT
DTSTART:20230924T020000
TZOFFSETFROM:+1200
TZOFFSETTO:+1300
RDATE:20240929T020000
TZNAME:NZDT
END:DAYLIGHT
END:VTIMEZONE
BEGIN:VEVENT
UID:20220918T090000NZST-02600dJfbt@https://www.fencing.org.nz/
DTSTAMP:20260424T133301Z
CATEGORIES:Central
DESCRIPTION:<p><a href='https://www.sporty.co.nz/hbfencing/2023-central-cam
 p-open-tourn/entry-form'>https://www.sporty.co.nz/hbfencing/2023-central-c
 amp-open-tourn/entry-form</a></p>
DTSTART;TZID=Pacific/Auckland:20231003T090000
DTEND;TZID=Pacific/Auckland:20231005T100000
SUMMARY:Central Training Camp - HB
URL:https://bratac.hosts.net.nz/~fencing/events/events-calendar/28-central/
 127-central-u11-and-u13-3-2
END:VEVENT
END:VCALENDAR
