BEGIN:VCALENDAR
VERSION:2.0
PRODID:-//https://bratac.hosts.net.nz/~fencing//NONSGML kigkonsult.se iCalc
 reator 2.23.20//
METHOD:PUBLISH
X-WR-CALNAME:JCal Pro Calendar
X-WR-CALDESC:Your online events calendar
X-WR-TIMEZONE:Pacific/Auckland
BEGIN:VTIMEZONE
TZID:Pacific/Auckland
BEGIN:STANDARD
DTSTART:20240407T030000
TZOFFSETFROM:+1300
TZOFFSETTO:+1200
RDATE:20250406T030000
TZNAME:NZST
END:STANDARD
BEGIN:DAYLIGHT
DTSTART:20230924T020000
TZOFFSETFROM:+1200
TZOFFSETTO:+1300
RDATE:20240929T020000
TZNAME:NZDT
END:DAYLIGHT
END:VTIMEZONE
BEGIN:VEVENT
UID:20240309T080000NZDT-1411KKtmEh@https://www.fencing.org.nz/
DTSTAMP:20260424T133309Z
CATEGORIES:Central
DESCRIPTION:
DTSTART;TZID=Pacific/Auckland:20240309T080000
DTEND;TZID=Pacific/Auckland:20240310T140000
SUMMARY:Central U15 & Cadet Championships
URL:https://bratac.hosts.net.nz/~fencing/events/events-calendar/28-central/
 206-central-u15-cadet-championships
END:VEVENT
BEGIN:VEVENT
UID:20240310T080000NZDT-5486NFmAF6@https://www.fencing.org.nz/
DTSTAMP:20260424T133309Z
CATEGORIES:South
DESCRIPTION:
DTSTART;VALUE=DATE:20240310
DTEND;VALUE=DATE:20240311
SUMMARY:Siuth U15 & Cadet Championships
URL:https://bratac.hosts.net.nz/~fencing/events/events-calendar/29-south/20
 7-siuth-u15-cadet-championships
END:VEVENT
END:VCALENDAR
