BEGIN:VCALENDAR
VERSION:2.0
PRODID:-//https://bratac.hosts.net.nz/~fencing//NONSGML kigkonsult.se iCalc
 reator 2.23.20//
METHOD:PUBLISH
X-WR-CALNAME:JCal Pro Calendar
X-WR-CALDESC:Your online events calendar
X-WR-TIMEZONE:Pacific/Auckland
BEGIN:VTIMEZONE
TZID:Australia/Melbourne
BEGIN:STANDARD
DTSTART:20240407T030000
TZOFFSETFROM:+1100
TZOFFSETTO:+1000
RDATE:20250406T030000
TZNAME:AEST
END:STANDARD
BEGIN:DAYLIGHT
DTSTART:20241006T020000
TZOFFSETFROM:+1000
TZOFFSETTO:+1100
RDATE:20251005T020000
TZNAME:AEDT
END:DAYLIGHT
END:VTIMEZONE
BEGIN:VEVENT
UID:20240803T080000AEST-74132nEJsH@https://www.fencing.org.nz/
DTSTAMP:20260424T170911Z
CATEGORIES:International
DESCRIPTION:<p>Victorian State Fencing Centre<br />Melbourne</p>\n<p>Detail
 s can be found on the AFF Calendar&nbsp\;<a href='https://www.ausfencing.o
 rg/tribe-events/'>https://www.ausfencing.org/tribe-events/</a></p>
DTSTART;TZID=Australia/Melbourne:20240803T080000
DTEND;TZID=Australia/Melbourne:20240805T090000
SUMMARY:Australian International Veteran Fencing Challenge
URL:https://bratac.hosts.net.nz/~fencing/events/events-calendar/30-internat
 ional/231-australian-international-veteran-fencing-challenge
END:VEVENT
END:VCALENDAR
