BEGIN:VCALENDAR
VERSION:2.0
PRODID:-//https://bratac.hosts.net.nz/~fencing//NONSGML kigkonsult.se iCalc
 reator 2.23.20//
METHOD:PUBLISH
X-WR-CALNAME:JCal Pro Calendar
X-WR-CALDESC:Your online events calendar
X-WR-TIMEZONE:Pacific/Auckland
BEGIN:VTIMEZONE
TZID:Pacific/Auckland
BEGIN:STANDARD
DTSTART:20250406T030000
TZOFFSETFROM:+1300
TZOFFSETTO:+1200
RDATE:20260405T030000
TZNAME:NZST
END:STANDARD
BEGIN:DAYLIGHT
DTSTART:20240929T020000
TZOFFSETFROM:+1200
TZOFFSETTO:+1300
RDATE:20250928T020000
TZNAME:NZDT
END:DAYLIGHT
END:VTIMEZONE
BEGIN:VEVENT
UID:20250131T080000NZDT-9062aelgn4@https://www.fencing.org.nz/
DTSTAMP:20260424T133349Z
CATEGORIES:International
DESCRIPTION:<p>AFF - Australian Junior Championships will be held at the&nb
 sp\;<br />Victorian State Fencing Centre in Melbourne</p>\n<p>&nbsp\;</p>
 \n<p>&nbsp\; &nbsp\; &nbsp\; &nbsp\; &nbsp\; &nbsp\; &nbsp\; &nbsp\; &nbsp
 \; &nbsp\; &nbsp\; &nbsp\; &nbsp\; &nbsp\;<span style='font-size: 18pt\;'>
 Please be aware that there has been a date change.&nbsp\; Please use the l
 ink to the Australian Fencing Web Site.</span></p>\n<p>&nbsp\;</p>\n<p>Was
  from 21st&nbsp\;Febuary 2025&nbsp\;<br />to&nbsp\;24th February.&nbsp\;</
 p>\n<p>Additional details will be found on the AFF Website <a href='https:
 //www.ausfencing.org/tribe-events/2025-australian-junior-championships/'>h
 ttps://www.ausfencing.org/tribe-events/2025-australian-junior-championship
 s/</a></p>
DTSTART;TZID=Pacific/Auckland:20250228T080000
DTEND;TZID=Pacific/Auckland:20250303T090000
SUMMARY:AFF - Junior Championships 2025 - date changed
URL:https://bratac.hosts.net.nz/~fencing/events/events-calendar/30-internat
 ional/235-aff-junior-championships-2025
END:VEVENT
END:VCALENDAR
