BEGIN:VCALENDAR
VERSION:2.0
PRODID:-//https://bratac.hosts.net.nz/~fencing//NONSGML kigkonsult.se iCalc
 reator 2.23.20//
METHOD:PUBLISH
X-WR-CALNAME:JCal Pro Calendar
X-WR-CALDESC:Your online events calendar
X-WR-TIMEZONE:Pacific/Auckland
BEGIN:VTIMEZONE
TZID:Pacific/Auckland
BEGIN:STANDARD
DTSTART:20250406T030000
TZOFFSETFROM:+1300
TZOFFSETTO:+1200
RDATE:20260405T030000
TZNAME:NZST
END:STANDARD
BEGIN:DAYLIGHT
DTSTART:20240929T020000
TZOFFSETFROM:+1200
TZOFFSETTO:+1300
RDATE:20250928T020000
TZNAME:NZDT
END:DAYLIGHT
END:VTIMEZONE
BEGIN:VEVENT
UID:20250308T080000NZDT-8735gl2Vht@https://www.fencing.org.nz/
DTSTAMP:20260424T133235Z
CATEGORIES:Central
DESCRIPTION:
DTSTART;TZID=Pacific/Auckland:20250308T080000
DTEND;TZID=Pacific/Auckland:20250309T170000
SUMMARY:Central U15 & Cadet Championships
URL:https://bratac.hosts.net.nz/~fencing/events/events-calendar/28-central/
 241-central-u15-cadet-championships
END:VEVENT
BEGIN:VEVENT
UID:20250308T210000NZDT-0499E1WfvO@https://www.fencing.org.nz/
DTSTAMP:20260424T133235Z
CATEGORIES:Mid South
DESCRIPTION:
DTSTART;TZID=Pacific/Auckland:20250308T090000
DTEND;TZID=Pacific/Auckland:20250309T150000
SUMMARY:Mid South Secondary Schools 1
URL:https://bratac.hosts.net.nz/~fencing/events/events-calendar/25-mid-sout
 h/268-mid-south-secondary-schools
END:VEVENT
END:VCALENDAR
