BEGIN:VCALENDAR
VERSION:2.0
PRODID:-//https://bratac.hosts.net.nz/~fencing//NONSGML kigkonsult.se iCalc
 reator 2.23.20//
METHOD:PUBLISH
X-WR-CALNAME:JCal Pro Calendar
X-WR-CALDESC:Your online events calendar
X-WR-TIMEZONE:Pacific/Auckland
BEGIN:VTIMEZONE
TZID:Pacific/Auckland
BEGIN:STANDARD
DTSTART:20250406T030000
TZOFFSETFROM:+1300
TZOFFSETTO:+1200
RDATE:20260405T030000
TZNAME:NZST
END:STANDARD
BEGIN:DAYLIGHT
DTSTART:20240929T020000
TZOFFSETFROM:+1200
TZOFFSETTO:+1300
RDATE:20250928T020000,20260927T020000
TZNAME:NZDT
END:DAYLIGHT
END:VTIMEZONE
BEGIN:VEVENT
UID:20250307T080000NZDT-83878pLGc8@https://www.fencing.org.nz/
DTSTAMP:20260424T133311Z
CATEGORIES:International
DESCRIPTION:<p>AFF 4 - D.H. McKenzie Championships will now take place at t
 he&nbsp\;&nbsp\;</p>\n<p>&nbsp\; &nbsp\;&nbsp\;</p>\n<p>Victorian State Fe
 ncing Centre</p>\n<p><span class='tribe-address'><span class='tribe-street
 -address'>204-206 Arden Street</span><br /><span class='tribe-locality'>No
 rth Melbourne</span><span class='tribe-delimiter'>\,</span>&nbsp\;<abbr cl
 ass='tribe-region tribe-events-abbr' title='Victoria'>Victoria</abbr>&nbsp
 \;<span class='tribe-postal-code'>3051</span>&nbsp\;<span class='tribe-cou
 ntry-name'>Australia</span></span></p>\n<p>&nbsp\;</p>\n<p>Previously&nbsp
 \;<br />Yeronga Park Fitness Centre<br />in Brisbane from March 7th to Mar
 ch 9th.</p>\n<p><span style='font-size: 14pt\;'>Additional details will be
  available on te AFF website&nbsp\;<a href='https://www.ausfencing.org/tri
 be-events/'>https://www.ausfencing.org/tribe-events/</a></span></p>
DTSTART;TZID=Pacific/Auckland:20250328T080000
DTEND;TZID=Pacific/Auckland:20250331T090000
SUMMARY:AFC 4 - D.H. McKenzie Championships 
URL:https://bratac.hosts.net.nz/~fencing/events/events-calendar/30-internat
 ional/236-aff-d-h-mckenzie-championships
END:VEVENT
BEGIN:VEVENT
UID:20250419T090000NZST-8954e4JwRw@https://www.fencing.org.nz/
DTSTAMP:20260424T133311Z
CATEGORIES:Mid South
DESCRIPTION:<p>Saturday - 9am - Shirley Intermediate School Hall\, entrance
  off North Parade\,&nbsp\; &nbsp\;<br /><br /></p>\n<p>Sunday - 9am - TFI<
 /p>
DTSTART;TZID=Pacific/Auckland:20250329T090000
DTEND;TZID=Pacific/Auckland:20250330T150000
SUMMARY:Keith Mann
URL:https://bratac.hosts.net.nz/~fencing/events/events-calendar/25-mid-sout
 h/269-keith-mann
END:VEVENT
END:VCALENDAR
