BEGIN:VCALENDAR
VERSION:2.0
PRODID:-//https://bratac.hosts.net.nz/~fencing//NONSGML kigkonsult.se iCalc
 reator 2.23.20//
METHOD:PUBLISH
X-WR-CALNAME:JCal Pro Calendar
X-WR-CALDESC:Your online events calendar
X-WR-TIMEZONE:Pacific/Auckland
BEGIN:VTIMEZONE
TZID:Pacific/Auckland
BEGIN:STANDARD
DTSTART:20250406T030000
TZOFFSETFROM:+1300
TZOFFSETTO:+1200
RDATE:20260405T030000
TZNAME:NZST
END:STANDARD
BEGIN:DAYLIGHT
DTSTART:20250928T020000
TZOFFSETFROM:+1200
TZOFFSETTO:+1300
RDATE:20260927T020000
TZNAME:NZDT
END:DAYLIGHT
END:VTIMEZONE
BEGIN:VEVENT
UID:20250503T080000NZST-25571IDX8i@https://www.fencing.org.nz/
DTSTAMP:20260424T133140Z
CATEGORIES:South
DESCRIPTION:
DTSTART;TZID=Pacific/Auckland:20250503T080000
DTEND;TZID=Pacific/Auckland:20250504T170100
SUMMARY:Ted Nye
URL:https://bratac.hosts.net.nz/~fencing/events/events-calendar/29-south/25
 1-ted-nye
END:VEVENT
BEGIN:VEVENT
UID:20250503T090000NZST-8806gUOuej@https://www.fencing.org.nz/
DTSTAMP:20260424T133140Z
CATEGORIES:Mid South
DESCRIPTION:
DTSTART;TZID=Pacific/Auckland:20250503T090000
DTEND;TZID=Pacific/Auckland:20250504T150000
SUMMARY:Mid South U20s
URL:https://bratac.hosts.net.nz/~fencing/events/events-calendar/25-mid-sout
 h/273-mid-south-u20s
END:VEVENT
END:VCALENDAR
