BEGIN:VCALENDAR
VERSION:2.0
PRODID:-//https://bratac.hosts.net.nz/~fencing//NONSGML kigkonsult.se iCalc
 reator 2.23.20//
METHOD:PUBLISH
X-WR-CALNAME:JCal Pro Calendar
X-WR-CALDESC:Your online events calendar
X-WR-TIMEZONE:Pacific/Auckland
BEGIN:VTIMEZONE
TZID:Pacific/Auckland
BEGIN:STANDARD
DTSTART:20250406T030000
TZOFFSETFROM:+1300
TZOFFSETTO:+1200
RDATE:20260405T030000
TZNAME:NZST
END:STANDARD
BEGIN:DAYLIGHT
DTSTART:20250928T020000
TZOFFSETFROM:+1200
TZOFFSETTO:+1300
RDATE:20260927T020000
TZNAME:NZDT
END:DAYLIGHT
END:VTIMEZONE
BEGIN:VEVENT
UID:20250617T080000NZST-8184ffaiUv@https://www.fencing.org.nz/
DTSTAMP:20260424T133136Z
CATEGORIES:International
DESCRIPTION:<p>FCA Asian Senior Championships<br />Bali</p>\n<p>Indonesia<b
 r /><br /></p>\n<p>Additional details tna</p>
DTSTART;TZID=Pacific/Auckland:20250617T080000
DTEND;TZID=Pacific/Auckland:20250624T080000
SUMMARY:Senior's Asian Fencing Championship\, (New Dates)
URL:https://bratac.hosts.net.nz/~fencing/events/events-calendar/30-internat
 ional/281-senior-s-asian-fencing-championship-new-dates
END:VEVENT
END:VCALENDAR
