BEGIN:VCALENDAR
VERSION:2.0
PRODID:-//https://bratac.hosts.net.nz/~fencing//NONSGML kigkonsult.se iCalc
 reator 2.23.20//
METHOD:PUBLISH
X-WR-CALNAME:JCal Pro Calendar
X-WR-CALDESC:Your online events calendar
X-WR-TIMEZONE:Pacific/Auckland
BEGIN:VTIMEZONE
TZID:Pacific/Auckland
BEGIN:STANDARD
DTSTART:20250406T030000
TZOFFSETFROM:+1300
TZOFFSETTO:+1200
RDATE:20260405T030000
TZNAME:NZST
END:STANDARD
BEGIN:DAYLIGHT
DTSTART:20250928T020000
TZOFFSETFROM:+1200
TZOFFSETTO:+1300
RDATE:20260927T020000
TZNAME:NZDT
END:DAYLIGHT
END:VTIMEZONE
BEGIN:VEVENT
UID:20250719T080000NZST-4377BUVKz9@https://www.fencing.org.nz/
DTSTAMP:20260424T151925Z
CATEGORIES:International
DESCRIPTION:<p>The AFF Open Repecharge Marathon event will take place at th
 e Yeronga<br />State High School Sports Centre in Brisbane\, Queensland fr
 om 19th july to 20th July 2025.</p>\n<p>Additional details will be availab
 le on the AFF Website:&nbsp\;<a href='https://www.ausfencing.org/tribe-eve
 nts/'>https://www.ausfencing.org/tribe-events/</a></p>
DTSTART;TZID=Pacific/Auckland:20250719T080000
DTEND;TZID=Pacific/Auckland:20250721T090000
SUMMARY:AFF - Open Repecharge Marathon
URL:https://bratac.hosts.net.nz/~fencing/events/events-calendar/30-internat
 ional/239-aff-open-repecharge-marathon
END:VEVENT
END:VCALENDAR
