BEGIN:VCALENDAR
VERSION:2.0
PRODID:-//https://bratac.hosts.net.nz/~fencing//NONSGML kigkonsult.se iCalc
 reator 2.23.20//
METHOD:PUBLISH
X-WR-CALNAME:JCal Pro Calendar
X-WR-CALDESC:Your online events calendar
X-WR-TIMEZONE:Pacific/Auckland
BEGIN:VTIMEZONE
TZID:Pacific/Auckland
BEGIN:STANDARD
DTSTART:20250406T030000
TZOFFSETFROM:+1300
TZOFFSETTO:+1200
RDATE:20260405T030000
TZNAME:NZST
END:STANDARD
BEGIN:DAYLIGHT
DTSTART:20250928T020000
TZOFFSETFROM:+1200
TZOFFSETTO:+1300
RDATE:20260927T020000
TZNAME:NZDT
END:DAYLIGHT
END:VTIMEZONE
BEGIN:VEVENT
UID:20250726T080000NZST-75801E06u4@https://www.fencing.org.nz/
DTSTAMP:20260424T152629Z
CATEGORIES:Central
DESCRIPTION:
DTSTART;TZID=Pacific/Auckland:20250726T080000
DTEND;TZID=Pacific/Auckland:20250727T170000
SUMMARY:Central Secondary School Championships
URL:https://bratac.hosts.net.nz/~fencing/events/events-calendar/28-central/
 245-central-secondary-school-championships
END:VEVENT
BEGIN:VEVENT
UID:20250727T080000NZST-6747ki68H4@https://www.fencing.org.nz/
DTSTAMP:20260424T152629Z
CATEGORIES:South
DESCRIPTION:
DTSTART;TZID=Pacific/Auckland:20250727T080000
DTEND;TZID=Pacific/Auckland:20250727T180000
SUMMARY:South Age Group Competition
URL:https://bratac.hosts.net.nz/~fencing/events/events-calendar/29-south/25
 3-south-age-group-competition
END:VEVENT
BEGIN:VEVENT
UID:20250727T080000NZST-85668K49ZU@https://www.fencing.org.nz/
DTSTAMP:20260424T152629Z
CATEGORIES:North
DESCRIPTION:
DTSTART;TZID=Pacific/Auckland:20250727T080000
DTEND;TZID=Pacific/Auckland:20250727T090000
SUMMARY:North Secondary Schools #2
URL:https://bratac.hosts.net.nz/~fencing/events/events-calendar/26-north/27
 9-north-secondary-schools-2
END:VEVENT
END:VCALENDAR
