BEGIN:VCALENDAR
VERSION:2.0
PRODID:-//https://bratac.hosts.net.nz/~fencing//NONSGML kigkonsult.se iCalc
 reator 2.23.20//
METHOD:PUBLISH
X-WR-CALNAME:JCal Pro Calendar
X-WR-CALDESC:Your online events calendar
X-WR-TIMEZONE:Pacific/Auckland
BEGIN:VTIMEZONE
TZID:Pacific/Auckland
BEGIN:STANDARD
DTSTART:20250406T030000
TZOFFSETFROM:+1300
TZOFFSETTO:+1200
RDATE:20260405T030000
TZNAME:NZST
END:STANDARD
BEGIN:DAYLIGHT
DTSTART:20250928T020000
TZOFFSETFROM:+1200
TZOFFSETTO:+1300
RDATE:20260927T020000
TZNAME:NZDT
END:DAYLIGHT
END:VTIMEZONE
BEGIN:VEVENT
UID:20250830T080000NZST-8590pF2ofu@https://www.fencing.org.nz/
DTSTAMP:20260424T151936Z
CATEGORIES:South
DESCRIPTION:
DTSTART;TZID=Pacific/Auckland:20250830T080000
DTEND;TZID=Pacific/Auckland:20250831T170000
SUMMARY:South Senior Championships
URL:https://bratac.hosts.net.nz/~fencing/events/events-calendar/29-south/25
 4-south-senior-championships
END:VEVENT
BEGIN:VEVENT
UID:20250830T080000NZST-1985ilHv4X@https://www.fencing.org.nz/
DTSTAMP:20260424T151936Z
CATEGORIES:FeNZ,Mid South
DESCRIPTION:<p>NZSSC is being held in Christchurch\,&nbsp\; &nbsp\; Schedul
 e will be added when available.</p>\n<p>VEnue is:&nbsp\;<strong>Pioneer St
 adium\, 75 Lyttelton St\, Somerville\, Christchurch</strong></p>
DTSTART;TZID=Pacific/Auckland:20250830T080000
DTEND;TZID=Pacific/Auckland:20250831T170000
SUMMARY:National Secondary Schools
URL:https://bratac.hosts.net.nz/~fencing/events/events-calendar/27-fenz/261
 -national-secondary-schools
END:VEVENT
END:VCALENDAR
