BEGIN:VCALENDAR
VERSION:2.0
PRODID:-//https://bratac.hosts.net.nz/~fencing//NONSGML kigkonsult.se iCalc
 reator 2.23.20//
METHOD:PUBLISH
X-WR-CALNAME:JCal Pro Calendar
X-WR-CALDESC:Your online events calendar
X-WR-TIMEZONE:Pacific/Auckland
BEGIN:VTIMEZONE
TZID:Pacific/Auckland
BEGIN:STANDARD
DTSTART:20260405T030000
TZOFFSETFROM:+1300
TZOFFSETTO:+1200
RDATE:20270404T030000
TZNAME:NZST
END:STANDARD
BEGIN:DAYLIGHT
DTSTART:20250928T020000
TZOFFSETFROM:+1200
TZOFFSETTO:+1300
RDATE:20260927T020000
TZNAME:NZDT
END:DAYLIGHT
END:VTIMEZONE
BEGIN:VEVENT
UID:20260314T080000NZDT-6378zRvU0U@https://www.fencing.org.nz/
DTSTAMP:20260424T133347Z
CATEGORIES:Mid South
DESCRIPTION:<p>Senior Event</p>
DTSTART;TZID=Pacific/Auckland:20260314T080000
DTEND;TZID=Pacific/Auckland:20260315T173000
SUMMARY:Keith Mann Memorial (Ranking)
URL:https://bratac.hosts.net.nz/~fencing/events/events-calendar/25-mid-sout
 h/286-keith-mann-memorial
END:VEVENT
END:VCALENDAR
