BEGIN:VCALENDAR
VERSION:2.0
PRODID:-//https://bratac.hosts.net.nz/~fencing//NONSGML kigkonsult.se iCalc
 reator 2.23.20//
METHOD:PUBLISH
X-WR-CALNAME:JCal Pro Calendar
X-WR-CALDESC:Your online events calendar
X-WR-TIMEZONE:Pacific/Auckland
BEGIN:VTIMEZONE
TZID:Pacific/Auckland
BEGIN:STANDARD
DTSTART:20260405T030000
TZOFFSETFROM:+1300
TZOFFSETTO:+1200
RDATE:20270404T030000
TZNAME:NZST
END:STANDARD
BEGIN:DAYLIGHT
DTSTART:20260927T020000
TZOFFSETFROM:+1200
TZOFFSETTO:+1300
RDATE:20270926T020000
TZNAME:NZDT
END:DAYLIGHT
END:VTIMEZONE
BEGIN:VEVENT
UID:20261017T080000NZDT-1406gmVJ3n@https://www.fencing.org.nz/
DTSTAMP:20260424T133252Z
CATEGORIES:FeNZ
DESCRIPTION:<p>Dunedin</p>\n<p>Thiswill&nbsp\; be held at Otago Girls High 
 School on 13th - 14th June</p>\n<p>&nbsp\;</p>\n<p>&nbsp\;</p>
DTSTART;TZID=Pacific/Auckland:20260613T080000
DTEND;TZID=Pacific/Auckland:20260614T170000
SUMMARY: South Island & Veteran Epee Championships - Confirmed
URL:https://bratac.hosts.net.nz/~fencing/events/events-calendar/27-fenz/304
 -south-island-veteran-epee-championships
END:VEVENT
END:VCALENDAR
