BEGIN:VCALENDAR
VERSION:2.0
PRODID:-//https://bratac.hosts.net.nz/~fencing//NONSGML kigkonsult.se iCalc
 reator 2.23.20//
METHOD:PUBLISH
X-WR-CALNAME:JCal Pro Calendar
X-WR-CALDESC:Your online events calendar
X-WR-TIMEZONE:Pacific/Auckland
BEGIN:VTIMEZONE
TZID:Pacific/Auckland
BEGIN:STANDARD
DTSTART:20210404T030000
TZOFFSETFROM:+1300
TZOFFSETTO:+1200
RDATE:20220403T030000
TZNAME:NZST
END:STANDARD
BEGIN:DAYLIGHT
DTSTART:20210926T020000
TZOFFSETFROM:+1200
TZOFFSETTO:+1300
RDATE:20220925T020000
TZNAME:NZDT
END:DAYLIGHT
END:VTIMEZONE
BEGIN:VEVENT
UID:20210703T100000NZST-8014PP8pd4@https://www.fencing.org.nz/
DTSTAMP:20260424T132857Z
CATEGORIES:FeNZ
DESCRIPTION:<h3>Timetable for Presidents Cup-Saturday 3rd July\, Sunday 4th
  July</h3>\n<p><span style='text-decoration: underline\;'><strong>Saturday
  3rd July</strong></span></p>\n<p>8:15am Men’s Foil Registration Opens</p>
 \n<p>8:30am Men’s Foil Registration Closes</p>\n<p>9am Men’s Foil</p>\n<p>
 10:15am Women’s Epee Registration Opens</p>\n<p>10:30pm Women’s Epee Regis
 tration Closes</p>\n<p>11am Women’s Epee</p>\n<p>1:30pm Sabre &amp\; Veter
 an Sabre Registration Opens</p>\n<p>2pm Veteran Sabre</p>\n<p>3pm Men’s &a
 mp\; Women’s Sabre*</p>\n<ul>\n<li>Event will start after Men’s Foil is fi
 nished.</li>\n</ul>\n<p><span style='text-decoration: underline\;'>Sunday 
 4th July</span></p>\n<p>8:15am Men’s Epee Registration Opens</p>\n<p>8:30a
 m Men’s Epee Registration Closes</p>\n<p>9am Men’s Epee</p>\n<p>10:15am Wo
 men’s Foil Registration Opens</p>\n<p>10:30pm Women’s Foil Registration Cl
 oses</p>\n<p>11am Women’s Foil</p>
DTSTART;TZID=Pacific/Auckland:20210703T100000
DTEND;TZID=Pacific/Auckland:20210704T160000
SUMMARY:President's Cup & Vet Sabre - Christchurch
URL:https://bratac.hosts.net.nz/~fencing/events/events-calendar/27-fenz/103
 -president-s-cup
END:VEVENT
END:VCALENDAR
