BEGIN:VCALENDAR
VERSION:2.0
PRODID:-//https://bratac.hosts.net.nz/~fencing//NONSGML kigkonsult.se iCalc
 reator 2.23.20//
METHOD:PUBLISH
X-WR-CALNAME:JCal Pro Calendar
X-WR-CALDESC:Your online events calendar
X-WR-TIMEZONE:Pacific/Auckland
BEGIN:VTIMEZONE
TZID:Australia/Adelaide
BEGIN:STANDARD
DTSTART:20220403T030000
TZOFFSETFROM:+1030
TZOFFSETTO:+0930
RDATE:20230402T030000,20240407T030000
TZNAME:ACST
END:STANDARD
BEGIN:DAYLIGHT
DTSTART:20221002T020000
TZOFFSETFROM:+0930
TZOFFSETTO:+1030
RDATE:20231001T020000
TZNAME:ACDT
END:DAYLIGHT
END:VTIMEZONE
BEGIN:VTIMEZONE
TZID:Pacific/Auckland
BEGIN:STANDARD
DTSTART:20220403T030000
TZOFFSETFROM:+1300
TZOFFSETTO:+1200
RDATE:20230402T030000,20240407T030000
TZNAME:NZST
END:STANDARD
BEGIN:DAYLIGHT
DTSTART:20220925T020000
TZOFFSETFROM:+1200
TZOFFSETTO:+1300
RDATE:20230924T020000
TZNAME:NZDT
END:DAYLIGHT
END:VTIMEZONE
BEGIN:VTIMEZONE
TZID:Australia/Melbourne
BEGIN:STANDARD
DTSTART:20220403T030000
TZOFFSETFROM:+1100
TZOFFSETTO:+1000
RDATE:20230402T030000,20240407T030000
TZNAME:AEST
END:STANDARD
BEGIN:DAYLIGHT
DTSTART:20221002T020000
TZOFFSETFROM:+1000
TZOFFSETTO:+1100
RDATE:20231001T020000
TZNAME:AEDT
END:DAYLIGHT
END:VTIMEZONE
BEGIN:VEVENT
UID:20221029T080000AEDT-2295HwhnaD@https://www.fencing.org.nz/
DTSTAMP:20260424T214118Z
CATEGORIES:International
DESCRIPTION:<p><a href='https://www.ausfencing.org/tribe-events/'>Australia
 n AFC Calendar here</a></p>
DTSTART;TZID=Australia/Melbourne:20221029T080000
DTEND;TZID=Australia/Melbourne:20221101T090000
SUMMARY:AFC#4 - Melbourne
URL:https://bratac.hosts.net.nz/~fencing/events/events-calendar/30-internat
 ional/148-afc-4-melbourne
END:VEVENT
BEGIN:VEVENT
UID:29481008T000900NZDT-5078MBfRsG@https://www.fencing.org.nz/
DTSTAMP:20260424T214118Z
CATEGORIES:North
DESCRIPTION:<p><a href='https://www.fencingnorth.com/calendar2/icalrepeat.d
 etail/2022/11/12/646/-/larsen-hamilton'>For Fencing North Calendar and fur
 ther details click here</a></p>
DTSTART;TZID=Pacific/Auckland:20221105T080000
DTEND;TZID=Pacific/Auckland:20221105T090000
SUMMARY:Larsen - Hamilton
URL:https://bratac.hosts.net.nz/~fencing/events/events-calendar/26-north/14
 1-larsen-hamilton
END:VEVENT
BEGIN:VEVENT
UID:20221125T080000ACDT-5190apaJGt@https://www.fencing.org.nz/
DTSTAMP:20260424T214118Z
CATEGORIES:International
DESCRIPTION:<p><a href='https://www.ausfencing.org/tribe-events/'>Australia
 n AFC Calendar here</a></p>
DTSTART;TZID=Australia/Adelaide:20221125T080000
DTEND;TZID=Australia/Adelaide:20221201T090000
SUMMARY:Australian Senior and Veteran Champs - Adelaide
URL:https://bratac.hosts.net.nz/~fencing/events/events-calendar/30-internat
 ional/149-australian-senior-and-veteran-champs-adelaide
END:VEVENT
BEGIN:VEVENT
UID:20221125T080000ACDT-7714ZsWlsv@https://www.fencing.org.nz/
DTSTAMP:20260424T214118Z
CATEGORIES:International
DESCRIPTION:<p><a href='https://www.ausfencing.org/tribe-events/'>Australia
 n Calendar here</a></p>
DTSTART;TZID=Australia/Adelaide:20221125T080000
DTEND;TZID=Australia/Adelaide:20221201T090000
SUMMARY:Australian Youth Circuit Final - Adelaide
URL:https://bratac.hosts.net.nz/~fencing/events/events-calendar/30-internat
 ional/151-australian-youth-circuit-final-adelaide
END:VEVENT
END:VCALENDAR
