BEGIN:VCALENDAR
VERSION:2.0
PRODID:-//https://bratac.hosts.net.nz/~fencing//NONSGML kigkonsult.se iCalc
 reator 2.23.20//
METHOD:PUBLISH
X-WR-CALNAME:JCal Pro Calendar
X-WR-CALDESC:Your online events calendar
X-WR-TIMEZONE:Pacific/Auckland
BEGIN:VTIMEZONE
TZID:Pacific/Auckland
BEGIN:STANDARD
DTSTART:20230402T030000
TZOFFSETFROM:+1300
TZOFFSETTO:+1200
RDATE:20240407T030000
TZNAME:NZST
END:STANDARD
BEGIN:DAYLIGHT
DTSTART:20230924T020000
TZOFFSETFROM:+1200
TZOFFSETTO:+1300
RDATE:20240929T020000
TZNAME:NZDT
END:DAYLIGHT
END:VTIMEZONE
BEGIN:VEVENT
UID:20230520T110000NZST-9824MiKVUv@https://www.fencing.org.nz/
DTSTAMP:20260424T114450Z
CATEGORIES:Mid South
DESCRIPTION:<p>In memory of Mr. Mark Rance - President of FeNZ 2022</p>
DTSTART;TZID=Pacific/Auckland:20230520T110000
DTEND;TZID=Pacific/Auckland:20230521T120200
SUMMARY:Mark Rance Memorial Competition (Ranked Event)
URL:https://bratac.hosts.net.nz/~fencing/events/events-calendar/25-mid-sout
 h/187-mark-rance-memorial-competition
END:VEVENT
BEGIN:VEVENT
UID:20230506T090000NZST-0566kZTFX8@https://www.fencing.org.nz/
DTSTAMP:20260424T114450Z
CATEGORIES:South,FeNZ
DESCRIPTION:<p>Fencing South will be hosting the Ted Nye Open on the weeken
 d of the 6-7th May 2023.<br /><br />The competition will be held at Claymo
 re Swords Club\, 106 Bond St (Cnr of Police St and Bond St)\, Dunedin.<br 
 /><br />Registration will be open 9am - 9.15am and fencing starts at 9.30 
 on each day.<br /><br />This is a FENZ competition so you must be a FENZ c
 ompetitive member to take part.<br />You can sign up for your membership a
 t the below link:<br /><br /><a class='x1fey0fg xmper1u x1edh9d7' href='me
 mbership/membership-options'>https://www.fencing.org.nz/membership/members
 hip-options</a><br /><br />It is also the first of our two ranking competi
 tions this year.<br /><br />Further information can be found on the entry 
 form that is available at the link below:<br /><br />Please enter here:<br
  /><br /><a class='x1fey0fg xmper1u x1edh9d7' href='https://forms.gle/LCqT
 Kpeq8CTFpVkHA'>https://forms.gle/LCqTKpeq8CTFpVkHA</a><br /><br />Hope to 
 see you there.<br /><br /></p>
DTSTART;TZID=Pacific/Auckland:20230506T090000
DTEND;TZID=Pacific/Auckland:20230507T160000
SUMMARY:Ted Nye Open [Ranked Event]
URL:https://bratac.hosts.net.nz/~fencing/events/events-calendar/29-south/18
 1-ted-nye-open
END:VEVENT
BEGIN:VEVENT
UID:20230507T080000NZST-86759xBNW9@https://www.fencing.org.nz/
DTSTAMP:20260424T114450Z
CATEGORIES:North
DESCRIPTION:
DTSTART;TZID=Pacific/Auckland:20230507T080000
DTEND;TZID=Pacific/Auckland:20230507T090000
SUMMARY:Fenton Memorial  [Ranked Event - Epee]
URL:https://bratac.hosts.net.nz/~fencing/events/events-calendar/26-north/17
 0-fenton-memorial-epee
END:VEVENT
BEGIN:VEVENT
UID:20190809T190000UTC-a77fa7@http://localhost:8888/fencing/
DTSTAMP:20260424T114450Z
CATEGORIES:Central
DESCRIPTION:<p>Email: <span id='cloak0db3cc3d037cc23b03f7484719d045d1'>This
  email address is being protected from spambots. You need JavaScript enabl
 ed to view it.</span><script type='text/javascript'>
				document.getElementByI
 d('cloak0db3cc3d037cc23b03f7484719d045d1').innerHTML = ''\;
				var prefix = '&
 #109\;a' + 'i&#108\;' + '&#116\;o'\;
				var path = 'hr' + 'ef' + '='\;
				var addy
 0db3cc3d037cc23b03f7484719d045d1 = 't&#111\;&#117\;rn&#97\;m&#101\;nts' + 
 '&#64\;'\;
				addy0db3cc3d037cc23b03f7484719d045d1 = addy0db3cc3d037cc23b03f74
 84719d045d1 + 'f&#101\;nc&#105\;ngc&#101\;ntr&#97\;l' + '&#46\;' + '&#111\
 ;rg' + '&#46\;' + 'nz'\;
				var addy_text0db3cc3d037cc23b03f7484719d045d1 = 't
 &#111\;&#117\;rn&#97\;m&#101\;nts' + '&#64\;' + 'f&#101\;nc&#105\;ngc&#101
 \;ntr&#97\;l' + '&#46\;' + '&#111\;rg' + '&#46\;' + 'nz'\;document.getElem
 entById('cloak0db3cc3d037cc23b03f7484719d045d1').innerHTML += '<a ' + path
  + '\'' + prefix + ':' + addy0db3cc3d037cc23b03f7484719d045d1 + '\'>'+addy
 _text0db3cc3d037cc23b03f7484719d045d1+'<\/a>'\;
		</script>&nbsp\;</p>\n<p>&n
 bsp\;</p>
DTSTART;TZID=Pacific/Auckland:20230513T090000
DTEND;TZID=Pacific/Auckland:20230514T160000
SUMMARY:Central Junior Championships
URL:https://bratac.hosts.net.nz/~fencing/events/events-calendar/28-central/
 8-central-juniorchamps
END:VEVENT
BEGIN:VEVENT
UID:20221108T180000NZDT-1817OXvVIA@https://www.fencing.org.nz/
DTSTAMP:20260424T114450Z
CATEGORIES:FeNZ,Central
DESCRIPTION:<p>Wellington</p>\n<p>&nbsp\;<a href='https://drive.google.com/
 file/d/1rFzlYlG3cj21lbRCgV1RNMHv5LuV8MGc/view'>https://drive.google.com/fi
 le/d/1rFzlYlG3cj21lbRCgV1RNMHv5LuV8MGc/view</a></p>\n<table>\n<tbody>\n<tr
 >\n<td colspan='4'>\n<p><strong>Preliminary Timetable for Presidents Cup/N
 orth Island Champs/South Island Champs 2023</strong></p>\n</td>\n</tr>\n<t
 r>\n<td colspan='4'>\n<p><strong>Saturday </strong></p>\n</td>\n</tr>\n<tr
 >\n<td>\n<p><strong>Event</strong></p>\n</td>\n<td>\n<p><strong>Registrati
 on Opens</strong></p>\n</td>\n<td>\n<p><strong>Registration Closes</strong
 ></p>\n</td>\n<td>\n<p><strong>Event Start Time </strong></p>\n</td>\n</tr
 >\n<tr>\n<td>\n<p>Men's Foil</p>\n</td>\n<td>\n<p>7.45am</p>\n</td>\n<td>
 \n<p>8.00am</p>\n</td>\n<td>\n<p>8.30am</p>\n</td>\n</tr>\n<tr>\n<td>\n<p>
 Women's Epee</p>\n</td>\n<td>\n<p>8.45am*</p>\n</td>\n<td>\n<p>9.00am*</p>
 \n</td>\n<td>\n<p>9.30am/10.30am*</p>\n</td>\n</tr>\n<tr>\n<td>\n<p>Men's 
 Sabre</p>\n</td>\n<td>\n<p>11.30am*</p>\n</td>\n<td>\n<p>11.45am*</p>\n</t
 d>\n<td>\n<p>12.30pm*</p>\n</td>\n</tr>\n<tr>\n<td>\n<p>Women's Sabre</p>
 \n</td>\n<td>\n<p>11.30am*</p>\n</td>\n<td>\n<p>11.45am*</p>\n</td>\n<td>
 \n<p>12.30pm*</p>\n</td>\n</tr>\n<tr>\n<td>\n<p>Veteran Event</p>\n</td>\n
 <td>\n<p>1.15pm</p>\n</td>\n<td>\n<p>1.30pm</p>\n</td>\n<td>\n<p>2.00pm</p
 >\n</td>\n</tr>\n<tr>\n<td colspan='4'>\n<p><strong>Sunday </strong></p>\n
 </td>\n</tr>\n<tr>\n<td>\n<p><strong>Event</strong></p>\n</td>\n<td>\n<p><
 strong>Registration Opens</strong></p>\n</td>\n<td>\n<p><strong>Registrati
 on Closes</strong></p>\n</td>\n<td>\n<p><strong>Event Start Time </strong>
 </p>\n</td>\n</tr>\n<tr>\n<td>\n<p>Men's Epee</p>\n</td>\n<td>\n<p>7.45am<
 /p>\n</td>\n<td>\n<p>8.00am</p>\n</td>\n<td>\n<p>8.30am</p>\n</td>\n</tr>
 \n<tr>\n<td>\n<p>Women's Foil</p>\n</td>\n<td>\n<p>8.45am*</p>\n</td>\n<td
 >\n<p>9.00am*</p>\n</td>\n<td>\n<p>9.30am/10.30am*</p>\n</td>\n</tr>\n<tr>
 \n<td>&nbsp\;</td>\n<td>&nbsp\;</td>\n<td>&nbsp\;</td>\n<td>&nbsp\;</td>\n
 </tr>\n<tr>\n<td colspan='4'>\n<p>*start time will be confirmed once entri
 es are received</p>\n</td>\n</tr>\n</tbody>\n</table>
DTSTART;TZID=Pacific/Auckland:20230527T180000
DTEND;TZID=Pacific/Auckland:20230528T190000
SUMMARY:President's Cup and Veteran Sabre
URL:https://bratac.hosts.net.nz/~fencing/events/events-calendar/27-fenz/159
 -president-s-cup-and-veteran-sabre
END:VEVENT
END:VCALENDAR
