BEGIN:VCALENDAR
VERSION:2.0
PRODID:-//https://bratac.hosts.net.nz/~fencing//NONSGML kigkonsult.se iCalc
 reator 2.23.20//
METHOD:PUBLISH
X-WR-CALNAME:JCal Pro Calendar
X-WR-CALDESC:Your online events calendar
X-WR-TIMEZONE:Pacific/Auckland
BEGIN:VTIMEZONE
TZID:Pacific/Auckland
BEGIN:STANDARD
DTSTART:20240407T030000
TZOFFSETFROM:+1300
TZOFFSETTO:+1200
RDATE:20250406T030000
TZNAME:NZST
END:STANDARD
BEGIN:DAYLIGHT
DTSTART:20230924T020000
TZOFFSETFROM:+1200
TZOFFSETTO:+1300
RDATE:20240929T020000
TZNAME:NZDT
END:DAYLIGHT
END:VTIMEZONE
BEGIN:VEVENT
UID:20231104T080000NZDT-8190ubLakn@https://www.fencing.org.nz/
DTSTAMP:20260424T114521Z
CATEGORIES:Mid South
DESCRIPTION:
DTSTART;TZID=Pacific/Auckland:20231104T080000
DTEND;TZID=Pacific/Auckland:20231104T170000
SUMMARY:Mid South U13
URL:https://bratac.hosts.net.nz/~fencing/events/events-calendar/25-mid-sout
 h/192-mid-south-u13
END:VEVENT
BEGIN:VEVENT
UID:20231105T200000NZDT-4360FsAAHU@https://www.fencing.org.nz/
DTSTAMP:20260424T114521Z
CATEGORIES:Central
DESCRIPTION:
DTSTART;TZID=Pacific/Auckland:20231105T200000
DTEND;TZID=Pacific/Auckland:20231105T210000
SUMMARY:Central U11 and U13 #4
URL:https://bratac.hosts.net.nz/~fencing/events/events-calendar/28-central/
 195-central-u11-and-u13-4
END:VEVENT
BEGIN:VEVENT
UID:20210327T100000NZDT-5154JUh2us@https://www.fencing.org.nz/
DTSTAMP:20260424T114521Z
CATEGORIES:Central
DESCRIPTION:
DTSTART;TZID=Pacific/Auckland:20231111T100000
DTEND;TZID=Pacific/Auckland:20231111T160000
SUMMARY:Friendly Feilding Fencing Feast
URL:https://bratac.hosts.net.nz/~fencing/events/events-calendar/28-central/
 109-south-open-1
END:VEVENT
BEGIN:VEVENT
UID:20231119T200000NZDT-4925rLz3k5@https://www.fencing.org.nz/
DTSTAMP:20260424T114521Z
CATEGORIES:Central
DESCRIPTION:<p>Wellington Swords Club</p>\n<p>Contact: <span id='cloakd43e8
 baa280b3ab06083d35e3ff88fca'>This email address is being protected from sp
 ambots. You need JavaScript enabled to view it.</span><script type='text/j
 avascript'>
				document.getElementById('cloakd43e8baa280b3ab06083d35e3ff88fca'
 ).innerHTML = ''\;
				var prefix = '&#109\;a' + 'i&#108\;' + '&#116\;o'\;
				var p
 ath = 'hr' + 'ef' + '='\;
				var addyd43e8baa280b3ab06083d35e3ff88fca = 't&#11
 1\;&#117\;rn&#97\;m&#101\;nts' + '&#64\;'\;
				addyd43e8baa280b3ab06083d35e3ff
 88fca = addyd43e8baa280b3ab06083d35e3ff88fca + 'f&#101\;nc&#105\;ngc&#101\
 ;ntr&#97\;l' + '&#46\;' + '&#111\;rg' + '&#46\;' + 'nz'\;
				var addy_textd43e
 8baa280b3ab06083d35e3ff88fca = 't&#111\;&#117\;rn&#97\;m&#101\;nts' + '&#6
 4\;' + 'f&#101\;nc&#105\;ngc&#101\;ntr&#97\;l' + '&#46\;' + '&#111\;rg' + 
 '&#46\;' + 'nz'\;document.getElementById('cloakd43e8baa280b3ab06083d35e3ff
 88fca').innerHTML += '<a ' + path + '\'' + prefix + ':' + addyd43e8baa280b
 3ab06083d35e3ff88fca + '\'>'+addy_textd43e8baa280b3ab06083d35e3ff88fca+'<\
 /a>'\;
		</script></p>
DTSTART;TZID=Pacific/Auckland:20231119T200000
DTEND;TZID=Pacific/Auckland:20231119T220000
SUMMARY:Central Veteran Championships [Ranked Event]
URL:https://bratac.hosts.net.nz/~fencing/events/events-calendar/28-central/
 194-central-veteran-championships-ranked-event
END:VEVENT
BEGIN:VEVENT
UID:20201206T090000NZDT-32531rwS4u@https://www.fencing.org.nz/
DTSTAMP:20260424T114521Z
CATEGORIES:Central
DESCRIPTION:<p>VUWSC</p>\n<p>Email: <span id='cloak3b88faddf04ca52441bba4ce
 9134b68f'>This email address is being protected from spambots. You need Ja
 vaScript enabled to view it.</span><script type='text/javascript'>
				document
 .getElementById('cloak3b88faddf04ca52441bba4ce9134b68f').innerHTML = ''\;
				v
 ar prefix = '&#109\;a' + 'i&#108\;' + '&#116\;o'\;
				var path = 'hr' + 'ef' +
  '='\;
				var addy3b88faddf04ca52441bba4ce9134b68f = 'v&#117\;wf&#101\;nc&#105
 \;ng' + '&#64\;'\;
				addy3b88faddf04ca52441bba4ce9134b68f = addy3b88faddf04ca
 52441bba4ce9134b68f + 'gm&#97\;&#105\;l' + '&#46\;' + 'c&#111\;m'\;
				var add
 y_text3b88faddf04ca52441bba4ce9134b68f = 'v&#117\;wf&#101\;nc&#105\;ng' + 
 '&#64\;' + 'gm&#97\;&#105\;l' + '&#46\;' + 'c&#111\;m'\;document.getElemen
 tById('cloak3b88faddf04ca52441bba4ce9134b68f').innerHTML += '<a ' + path +
  '\'' + prefix + ':' + addy3b88faddf04ca52441bba4ce9134b68f + '\'>'+addy_t
 ext3b88faddf04ca52441bba4ce9134b68f+'<\/a>'\;
		</script>&nbsp\;</p>
DTSTART;TZID=Pacific/Auckland:20231126T090000
SUMMARY:Friendly Foil
URL:https://bratac.hosts.net.nz/~fencing/events/events-calendar/28-central/
 87-friendly-foil
END:VEVENT
END:VCALENDAR
