BEGIN:VCALENDAR
VERSION:2.0
PRODID:-//https://bratac.hosts.net.nz/~fencing//NONSGML kigkonsult.se iCalc
 reator 2.23.20//
METHOD:PUBLISH
X-WR-CALNAME:JCal Pro Calendar
X-WR-CALDESC:Your online events calendar
X-WR-TIMEZONE:Pacific/Auckland
BEGIN:VTIMEZONE
TZID:Pacific/Auckland
BEGIN:STANDARD
DTSTART:20240407T030000
TZOFFSETFROM:+1300
TZOFFSETTO:+1200
RDATE:20250406T030000
TZNAME:NZST
END:STANDARD
BEGIN:DAYLIGHT
DTSTART:20240929T020000
TZOFFSETFROM:+1200
TZOFFSETTO:+1300
RDATE:20250928T020000
TZNAME:NZDT
END:DAYLIGHT
END:VTIMEZONE
BEGIN:VEVENT
UID:20240504T210000NZST-4105G9xSrW@https://www.fencing.org.nz/
DTSTAMP:20260424T114450Z
CATEGORIES:Mid South
DESCRIPTION:
DTSTART;TZID=Pacific/Auckland:20240504T210000
DTEND;TZID=Pacific/Auckland:20240506T030000
SUMMARY:Mark Rance Memorial (Ranking E/F/S)
URL:https://bratac.hosts.net.nz/~fencing/events/events-calendar/25-mid-sout
 h/228-mark-rance-memorial-ranking-e-f-s
END:VEVENT
BEGIN:VEVENT
UID:20240511T110000NZST-38511Kvl5A@https://www.fencing.org.nz/
DTSTAMP:20260424T114450Z
CATEGORIES:Mid South
DESCRIPTION:
DTSTART;TZID=Pacific/Auckland:20240511T080000
DTEND;TZID=Pacific/Auckland:20240512T140000
SUMMARY:Ted Nye
URL:https://bratac.hosts.net.nz/~fencing/events/events-calendar/25-mid-sout
 h/213-ted-nye
END:VEVENT
BEGIN:VEVENT
UID:20240518T080000NZST-7518v0AVbz@https://www.fencing.org.nz/
DTSTAMP:20260424T114450Z
CATEGORIES:Central
DESCRIPTION:
DTSTART;TZID=Pacific/Auckland:20240518T080000
DTEND;TZID=Pacific/Auckland:20240519T140000
SUMMARY:Central Senior Championships
URL:https://bratac.hosts.net.nz/~fencing/events/events-calendar/28-central/
 214-central-senior-championships
END:VEVENT
BEGIN:VEVENT
UID:20240518T080000NZST-8298vRegPS@https://www.fencing.org.nz/
DTSTAMP:20260424T114450Z
CATEGORIES:Mid South
DESCRIPTION:
DTSTART;TZID=Pacific/Auckland:20240518T080000
DTEND;TZID=Pacific/Auckland:20240519T170000
SUMMARY:Mid-South U20s Championships
URL:https://bratac.hosts.net.nz/~fencing/events/events-calendar/25-mid-sout
 h/230-mid-south-u20s-championships
END:VEVENT
BEGIN:VEVENT
UID:20240601T120000NZST-8285vw7KIp@https://www.fencing.org.nz/
DTSTAMP:20260424T114450Z
CATEGORIES:FeNZ,Central,International
DESCRIPTION:<p><a href='https://www.sporty.co.nz/asset/downloadasset?id=5b1
 eb78a-f153-4658-92b8-b127ba5314c6'>https://www.sporty.co.nz/asset/download
 asset?id=5b1eb78a-f153-4658-92b8-b127ba5314c6</a></p>\n<p><a href='https:/
 /docs.google.com/forms/d/e/1FAIpQLSd7jGxMwRuTpybrM1PE0JTiuhDcY-N2mOe1SFnL1
 GXVseMTWg/viewform?usp=send_form'>https://docs.google.com/forms/d/e/1FAIpQ
 LSd7jGxMwRuTpybrM1PE0JTiuhDcY-N2mOe1SFnL1GXVseMTWg/viewform?usp=send_form<
 /a></p>\n<p>&nbsp\;</p>\n<p>&nbsp\;</p>
DTSTART;TZID=Pacific/Auckland:20240601T080000
DTEND;TZID=Pacific/Auckland:20240603T140000
SUMMARY:North Island Championships & Oceania Veteran Championships
URL:https://bratac.hosts.net.nz/~fencing/events/events-calendar/27-fenz/200
 -north-island-championships-oceania-veteran-championships
END:VEVENT
END:VCALENDAR
